BEGIN:VCALENDAR
VERSION:2.0
PRODID:-//St. Louis Economic Development Partnership - ECPv6.15.20//NONSGML v1.0//EN
CALSCALE:GREGORIAN
METHOD:PUBLISH
X-WR-CALNAME:St. Louis Economic Development Partnership
X-ORIGINAL-URL:https://stlpartnership.com
X-WR-CALDESC:Events for St. Louis Economic Development Partnership
REFRESH-INTERVAL;VALUE=DURATION:PT1H
X-Robots-Tag:noindex
X-PUBLISHED-TTL:PT1H
BEGIN:VTIMEZONE
TZID:America/Chicago
BEGIN:DAYLIGHT
TZOFFSETFROM:-0600
TZOFFSETTO:-0500
TZNAME:CDT
DTSTART:20240310T080000
END:DAYLIGHT
BEGIN:STANDARD
TZOFFSETFROM:-0500
TZOFFSETTO:-0600
TZNAME:CST
DTSTART:20241103T070000
END:STANDARD
BEGIN:DAYLIGHT
TZOFFSETFROM:-0600
TZOFFSETTO:-0500
TZNAME:CDT
DTSTART:20250309T080000
END:DAYLIGHT
BEGIN:STANDARD
TZOFFSETFROM:-0500
TZOFFSETTO:-0600
TZNAME:CST
DTSTART:20251102T070000
END:STANDARD
BEGIN:DAYLIGHT
TZOFFSETFROM:-0600
TZOFFSETTO:-0500
TZNAME:CDT
DTSTART:20260308T080000
END:DAYLIGHT
BEGIN:STANDARD
TZOFFSETFROM:-0500
TZOFFSETTO:-0600
TZNAME:CST
DTSTART:20261101T070000
END:STANDARD
BEGIN:DAYLIGHT
TZOFFSETFROM:-0600
TZOFFSETTO:-0500
TZNAME:CDT
DTSTART:20270314T080000
END:DAYLIGHT
BEGIN:STANDARD
TZOFFSETFROM:-0500
TZOFFSETTO:-0600
TZNAME:CST
DTSTART:20271107T070000
END:STANDARD
END:VTIMEZONE
BEGIN:VEVENT
DTSTART;TZID=America/Chicago:20251117T130000
DTEND;TZID=America/Chicago:20251117T140000
DTSTAMP:20260419T162823
CREATED:20251114T034741Z
LAST-MODIFIED:20251114T034741Z
UID:21009-1763384400-1763388000@stlpartnership.com
SUMMARY:HRIF Board Meeting
DESCRIPTION:See agenda here.
URL:https://stlpartnership.com/events/hrif-board-meeting/
LOCATION:120 South Central Avenue\, Clayton\, MO\, USA\, 120 South Central Avenue\, Clayton\, MO\, USA
CATEGORIES:Board Meeting
END:VEVENT
BEGIN:VEVENT
DTSTART;TZID=America/Chicago:20251119T090000
DTEND;TZID=America/Chicago:20251119T100000
DTSTAMP:20260419T162823
CREATED:20250110T201702Z
LAST-MODIFIED:20251114T211838Z
UID:19178-1763542800-1763546400@stlpartnership.com
SUMMARY:LCRA Board Meeting - November 2025
DESCRIPTION:See agenda here. \n 
URL:https://stlpartnership.com/events/lcra-board-meeting-27/
LOCATION:120 South Central Avenue\, Clayton\, MO\, USA\, 120 South Central Avenue\, Clayton\, MO\, USA
CATEGORIES:Board Meeting
END:VEVENT
BEGIN:VEVENT
DTSTART;TZID=America/Chicago:20251204T160000
DTEND;TZID=America/Chicago:20251204T170000
DTSTAMP:20260419T162823
CREATED:20241212T183955Z
LAST-MODIFIED:20251204T190713Z
UID:18976-1764864000-1764867600@stlpartnership.com
SUMMARY:World Trade Center – St. Louis Board of Directors Meeting - December 2025
DESCRIPTION:See agenda here. 
URL:https://stlpartnership.com/events/world-trade-center-st-louis-board-of-directors-meeting-19/
LOCATION:120 South Central Avenue\, Clayton\, MO\, USA\, 120 South Central Avenue\, Clayton\, MO\, USA
CATEGORIES:Board Meeting
END:VEVENT
BEGIN:VEVENT
DTSTART;TZID=America/Chicago:20251210T083000
DTEND;TZID=America/Chicago:20251210T093000
DTSTAMP:20260419T162823
CREATED:20250110T194806Z
LAST-MODIFIED:20251208T135654Z
UID:19162-1765355400-1765359000@stlpartnership.com
SUMMARY:STL Partnership CDC Board Meeting
DESCRIPTION:See agenda here.
URL:https://stlpartnership.com/events/stl-partnership-cdc-board-meeting-8/
LOCATION:120 South Central Avenue\, Clayton\, MO\, USA\, 120 South Central Avenue\, Clayton\, MO\, USA
CATEGORIES:Board Meeting
END:VEVENT
BEGIN:VEVENT
DTSTART;TZID=America/Chicago:20251210T153000
DTEND;TZID=America/Chicago:20251210T163000
DTSTAMP:20260419T162823
CREATED:20250110T202837Z
LAST-MODIFIED:20251208T135901Z
UID:19189-1765380600-1765384200@stlpartnership.com
SUMMARY:St. Louis Economic Development Partnership Board Meeting
DESCRIPTION:See agenda here.
URL:https://stlpartnership.com/events/st-louis-economic-development-partnership-board-meeting-25/
LOCATION:120 South Central Avenue\, Clayton\, MO\, USA\, 120 South Central Avenue\, Clayton\, MO\, USA
CATEGORIES:Board Meeting
END:VEVENT
BEGIN:VEVENT
DTSTART;TZID=America/Chicago:20251218T154500
DTEND;TZID=America/Chicago:20251218T170000
DTSTAMP:20260419T162823
CREATED:20251212T203052Z
LAST-MODIFIED:20251212T203052Z
UID:21124-1766072700-1766077200@stlpartnership.com
SUMMARY:LEMAY COMMUNITY IMPROVEMENT DISTRICT
DESCRIPTION:See agenda here.
URL:https://stlpartnership.com/events/lemay-community-improvement-district/
LOCATION:Online
CATEGORIES:Board Meeting
END:VEVENT
BEGIN:VEVENT
DTSTART;TZID=America/Chicago:20251218T160000
DTEND;TZID=America/Chicago:20251218T170000
DTSTAMP:20260419T162823
CREATED:20251203T170932Z
LAST-MODIFIED:20251212T202823Z
UID:21092-1766073600-1766077200@stlpartnership.com
SUMMARY:St. Louis County Port Authority Board
DESCRIPTION:See agenda here.
URL:https://stlpartnership.com/events/st-louis-county-port-authority-board/
LOCATION:120 South Central Avenue\, Clayton\, MO\, USA\, 120 South Central Avenue\, Clayton\, MO\, USA
CATEGORIES:Board Meeting
END:VEVENT
BEGIN:VEVENT
DTSTART;TZID=America/Chicago:20260108T093000
DTEND;TZID=America/Chicago:20260108T103000
DTSTAMP:20260419T162823
CREATED:20251219T144235Z
LAST-MODIFIED:20260106T172114Z
UID:21149-1767864600-1767868200@stlpartnership.com
SUMMARY:CANCELLED - IDA Board Meeting
DESCRIPTION:This event will be rescheduled.
URL:https://stlpartnership.com/events/ida-board-meeting-2/
LOCATION:120 South Central Avenue\, Clayton\, MO\, USA\, 120 South Central Avenue\, Clayton\, MO\, USA
CATEGORIES:Board Meeting
END:VEVENT
BEGIN:VEVENT
DTSTART;TZID=America/Chicago:20260115T160000
DTEND;TZID=America/Chicago:20260115T170000
DTSTAMP:20260419T162823
CREATED:20251222T144043Z
LAST-MODIFIED:20260109T193134Z
UID:21207-1768492800-1768496400@stlpartnership.com
SUMMARY:Port Authority Board Meeting
DESCRIPTION:See agenda here.
URL:https://stlpartnership.com/events/port-authority-board-meeting-3/
LOCATION:120 South Central Avenue\, Clayton\, MO\, USA\, 120 South Central Avenue\, Clayton\, MO\, USA
CATEGORIES:Board Meeting
END:VEVENT
BEGIN:VEVENT
DTSTART;TZID=America/Chicago:20260126T130000
DTEND;TZID=America/Chicago:20260126T143000
DTSTAMP:20260419T162823
CREATED:20260122T165514Z
LAST-MODIFIED:20260123T190412Z
UID:21340-1769432400-1769437800@stlpartnership.com
SUMMARY:Special STL Partnership Board Meeting
DESCRIPTION:See agenda here.
URL:https://stlpartnership.com/events/special-stl-partnership-board-meeting/
LOCATION:120 South Central Avenue\, Clayton\, MO\, USA\, 120 South Central Avenue\, Clayton\, MO\, USA
CATEGORIES:Board Meeting
END:VEVENT
BEGIN:VEVENT
DTSTART;TZID=America/Chicago:20260128T090000
DTEND;TZID=America/Chicago:20260128T100000
DTSTAMP:20260419T162823
CREATED:20251222T135448Z
LAST-MODIFIED:20260126T194002Z
UID:21157-1769590800-1769594400@stlpartnership.com
SUMMARY:LCRA Board Meeting
DESCRIPTION:See agenda here.
URL:https://stlpartnership.com/events/lcra-board-meeting-25/
LOCATION:120 South Central Avenue\, Clayton\, MO\, USA\, 120 South Central Avenue\, Clayton\, MO\, USA
CATEGORIES:Board Meeting
END:VEVENT
BEGIN:VEVENT
DTSTART;TZID=America/Chicago:20260202T130000
DTEND;TZID=America/Chicago:20260202T140000
DTSTAMP:20260419T162823
CREATED:20260108T134916Z
LAST-MODIFIED:20260129T224854Z
UID:21239-1770037200-1770040800@stlpartnership.com
SUMMARY:IDA Board Meeting
DESCRIPTION:RESCHEDULED \nThis meeting is replacing the January 8th scheduled meeting. \nSee agenda here.
URL:https://stlpartnership.com/events/ida-board-meeting-6/
LOCATION:120 South Central Avenue\, Clayton\, MO\, USA\, 120 South Central Avenue\, Clayton\, MO\, USA
CATEGORIES:Board Meeting
END:VEVENT
BEGIN:VEVENT
DTSTART;TZID=America/Chicago:20260203T113000
DTEND;TZID=America/Chicago:20260203T130000
DTSTAMP:20260419T162823
CREATED:20251222T143039Z
LAST-MODIFIED:20260130T212329Z
UID:21191-1770118200-1770123600@stlpartnership.com
SUMMARY:STLVW Board Meeting
DESCRIPTION:See agenda here.
URL:https://stlpartnership.com/events/stlvw-board-meeting/
LOCATION:120 South Central Avenue\, Clayton\, MO\, USA\, 120 South Central Avenue\, Clayton\, MO\, USA
CATEGORIES:Board Meeting
END:VEVENT
BEGIN:VEVENT
DTSTART;TZID=America/Chicago:20260219T160000
DTEND;TZID=America/Chicago:20260219T170000
DTSTAMP:20260419T162823
CREATED:20251222T144356Z
LAST-MODIFIED:20260217T135715Z
UID:21211-1771516800-1771520400@stlpartnership.com
SUMMARY:Port Authority Board Meeting
DESCRIPTION:See agenda here. 
URL:https://stlpartnership.com/events/port-authority-board-meeting-5/
LOCATION:120 South Central Avenue\, Clayton\, MO\, USA\, 120 South Central Avenue\, Clayton\, MO\, USA
CATEGORIES:Board Meeting
END:VEVENT
BEGIN:VEVENT
DTSTART;TZID=America/Chicago:20260225T153000
DTEND;TZID=America/Chicago:20260225T170000
DTSTAMP:20260419T162823
CREATED:20251222T142351Z
LAST-MODIFIED:20260223T133812Z
UID:21171-1772033400-1772038800@stlpartnership.com
SUMMARY:STL Partnership Board Meeting
DESCRIPTION:See agenda here. 
URL:https://stlpartnership.com/events/stl-partnership-board-meeting/
LOCATION:120 South Central Avenue\, Clayton\, MO\, USA\, 120 South Central Avenue\, Clayton\, MO\, USA
CATEGORIES:Board Meeting
END:VEVENT
BEGIN:VEVENT
DTSTART;TZID=America/Chicago:20260226T160000
DTEND;TZID=America/Chicago:20260226T170000
DTSTAMP:20260419T162823
CREATED:20251222T143831Z
LAST-MODIFIED:20260224T190631Z
UID:21199-1772121600-1772125200@stlpartnership.com
SUMMARY:WTC Board Meeting
DESCRIPTION:See agenda here.
URL:https://stlpartnership.com/events/wtc-board-meeting/
LOCATION:120 South Central Avenue\, Clayton\, MO\, USA\, 120 South Central Avenue\, Clayton\, MO\, USA
CATEGORIES:Board Meeting
END:VEVENT
BEGIN:VEVENT
DTSTART;TZID=America/Chicago:20260311T083000
DTEND;TZID=America/Chicago:20260311T093000
DTSTAMP:20260419T162823
CREATED:20251222T142801Z
LAST-MODIFIED:20260309T133715Z
UID:21183-1773217800-1773221400@stlpartnership.com
SUMMARY:CDC Board Meeting
DESCRIPTION:See agenda here. 
URL:https://stlpartnership.com/events/cdc-board-meeting/
LOCATION:120 South Central Avenue\, Clayton\, MO\, USA\, 120 South Central Avenue\, Clayton\, MO\, USA
CATEGORIES:Board Meeting
END:VEVENT
BEGIN:VEVENT
DTSTART;TZID=America/Chicago:20260318T103000
DTEND;TZID=America/Chicago:20260318T120000
DTSTAMP:20260419T162823
CREATED:20251222T141150Z
LAST-MODIFIED:20260317T121510Z
UID:21169-1773829800-1773835200@stlpartnership.com
SUMMARY:LJDC Meeting
DESCRIPTION:See agenda here. 
URL:https://stlpartnership.com/events/ljdc-meeting/
LOCATION:120 South Central Avenue\, Clayton\, MO\, USA\, 120 South Central Avenue\, Clayton\, MO\, USA
CATEGORIES:Board Meeting
END:VEVENT
BEGIN:VEVENT
DTSTART;TZID=America/Chicago:20260319T160000
DTEND;TZID=America/Chicago:20260319T170000
DTSTAMP:20260419T162823
CREATED:20251222T144336Z
LAST-MODIFIED:20260316T150507Z
UID:21209-1773936000-1773939600@stlpartnership.com
SUMMARY:Port Authority Board Meeting
DESCRIPTION:See agenda here.
URL:https://stlpartnership.com/events/port-authority-board-meeting-4/
LOCATION:120 South Central Avenue\, Clayton\, MO\, USA\, 120 South Central Avenue\, Clayton\, MO\, USA
CATEGORIES:Board Meeting
END:VEVENT
BEGIN:VEVENT
DTSTART;TZID=America/Chicago:20260320T113000
DTEND;TZID=America/Chicago:20260320T123000
DTSTAMP:20260419T162823
CREATED:20260318T174123Z
LAST-MODIFIED:20260319T162006Z
UID:21607-1774006200-1774009800@stlpartnership.com
SUMMARY:Special STL Partnership Board Meeting
DESCRIPTION:See agenda here.
URL:https://stlpartnership.com/events/special-stl-partnership-board-meeting-2/
LOCATION:120 South Central Avenue\, Clayton\, MO\, USA\, 120 South Central Avenue\, Clayton\, MO\, USA
CATEGORIES:Board Meeting
END:VEVENT
BEGIN:VEVENT
DTSTART;TZID=America/Chicago:20260325T090000
DTEND;TZID=America/Chicago:20260325T100000
DTSTAMP:20260419T162823
CREATED:20251222T135530Z
LAST-MODIFIED:20260323T123048Z
UID:21159-1774429200-1774432800@stlpartnership.com
SUMMARY:LCRA Board Meeting
DESCRIPTION:See agenda here. 
URL:https://stlpartnership.com/events/lcra-board-meeting-29/
LOCATION:120 South Central Avenue\, Clayton\, MO\, USA\, 120 South Central Avenue\, Clayton\, MO\, USA
CATEGORIES:Board Meeting
END:VEVENT
BEGIN:VEVENT
DTSTART;TZID=America/Chicago:20260407T150000
DTEND;TZID=America/Chicago:20260407T163000
DTSTAMP:20260419T162823
CREATED:20260406T123945Z
LAST-MODIFIED:20260406T123945Z
UID:21628-1775574000-1775579400@stlpartnership.com
SUMMARY:LCRA Board Meeting
DESCRIPTION:See agenda here. 
URL:https://stlpartnership.com/events/lcra-board-meeting-34/
LOCATION:120 South Central Avenue\, Clayton\, MO\, USA\, 120 South Central Avenue\, Clayton\, MO\, USA
CATEGORIES:Board Meeting
END:VEVENT
BEGIN:VEVENT
DTSTART;TZID=America/Chicago:20260408T153000
DTEND;TZID=America/Chicago:20260408T163000
DTSTAMP:20260419T162823
CREATED:20260407T145616Z
LAST-MODIFIED:20260407T145616Z
UID:21640-1775662200-1775665800@stlpartnership.com
SUMMARY:HRIF Advisory Board Meeting
DESCRIPTION:See agenda here.
URL:https://stlpartnership.com/events/hrif-advisory-board-meeting-4/
LOCATION:120 South Central Avenue\, Clayton\, MO\, USA\, 120 South Central Avenue\, Clayton\, MO\, USA
CATEGORIES:Board Meeting
END:VEVENT
BEGIN:VEVENT
DTSTART;TZID=America/Chicago:20260409T093000
DTEND;TZID=America/Chicago:20260409T103000
DTSTAMP:20260419T162823
CREATED:20251219T144410Z
LAST-MODIFIED:20260407T122913Z
UID:21151-1775727000-1775730600@stlpartnership.com
SUMMARY:IDA Board Meeting
DESCRIPTION:See agenda here. 
URL:https://stlpartnership.com/events/ida-board-meeting-3/
LOCATION:120 South Central Avenue\, Clayton\, MO\, USA\, 120 South Central Avenue\, Clayton\, MO\, USA
CATEGORIES:Board Meeting
END:VEVENT
BEGIN:VEVENT
DTSTART;TZID=America/Chicago:20260416T150000
DTEND;TZID=America/Chicago:20260416T153000
DTSTAMP:20260419T162823
CREATED:20260415T125909Z
LAST-MODIFIED:20260415T195149Z
UID:21660-1776351600-1776353400@stlpartnership.com
SUMMARY:Special STL Partnership Board Meeting
DESCRIPTION:See agenda here.
URL:https://stlpartnership.com/events/special-stl-partnership-board-meeting-3/
LOCATION:120 South Central Avenue\, Clayton\, MO\, USA\, 120 South Central Avenue\, Clayton\, MO\, USA
CATEGORIES:Board Meeting
END:VEVENT
BEGIN:VEVENT
DTSTART;TZID=America/Chicago:20260416T160000
DTEND;TZID=America/Chicago:20260416T170000
DTSTAMP:20260419T162823
CREATED:20251222T144406Z
LAST-MODIFIED:20260410T182629Z
UID:21213-1776355200-1776358800@stlpartnership.com
SUMMARY:Port Authority Board Meeting
DESCRIPTION:See agenda here. 
URL:https://stlpartnership.com/events/port-authority-board-meeting-6/
LOCATION:120 South Central Avenue\, Clayton\, MO\, USA\, 120 South Central Avenue\, Clayton\, MO\, USA
CATEGORIES:Board Meeting
END:VEVENT
BEGIN:VEVENT
DTSTART;TZID=America/Chicago:20260429T153000
DTEND;TZID=America/Chicago:20260429T170000
DTSTAMP:20260419T162823
CREATED:20251222T142424Z
LAST-MODIFIED:20260302T152521Z
UID:21173-1777476600-1777482000@stlpartnership.com
SUMMARY:STL Partnership Board Meeting
DESCRIPTION:Updated 3/2: Date moved from April 22nd to April 29th.
URL:https://stlpartnership.com/events/stl-partnership-board-meeting-2/
LOCATION:120 South Central Avenue\, Clayton\, MO\, USA\, 120 South Central Avenue\, Clayton\, MO\, USA
CATEGORIES:Board Meeting
END:VEVENT
BEGIN:VEVENT
DTSTART;TZID=America/Chicago:20260505T113000
DTEND;TZID=America/Chicago:20260505T130000
DTSTAMP:20260419T162823
CREATED:20251222T143613Z
LAST-MODIFIED:20251222T143613Z
UID:21193-1777980600-1777986000@stlpartnership.com
SUMMARY:STLVW Board Meeting
DESCRIPTION:
URL:https://stlpartnership.com/events/stlvw-board-meeting-2/
LOCATION:120 South Central Avenue\, Clayton\, MO\, USA\, 120 South Central Avenue\, Clayton\, MO\, USA
CATEGORIES:Board Meeting
END:VEVENT
BEGIN:VEVENT
DTSTART;TZID=America/Chicago:20260521T160000
DTEND;TZID=America/Chicago:20260521T170000
DTSTAMP:20260419T162823
CREATED:20251222T144417Z
LAST-MODIFIED:20251222T144417Z
UID:21215-1779379200-1779382800@stlpartnership.com
SUMMARY:Port Authority Board Meeting
DESCRIPTION:
URL:https://stlpartnership.com/events/port-authority-board-meeting-7/
LOCATION:120 South Central Avenue\, Clayton\, MO\, USA\, 120 South Central Avenue\, Clayton\, MO\, USA
CATEGORIES:Board Meeting
END:VEVENT
BEGIN:VEVENT
DTSTART;TZID=America/Chicago:20260527T090000
DTEND;TZID=America/Chicago:20260527T100000
DTSTAMP:20260419T162823
CREATED:20251222T135546Z
LAST-MODIFIED:20251222T135546Z
UID:21160-1779872400-1779876000@stlpartnership.com
SUMMARY:LCRA Board Meeting
DESCRIPTION:
URL:https://stlpartnership.com/events/lcra-board-meeting-30/
LOCATION:120 South Central Avenue\, Clayton\, MO\, USA\, 120 South Central Avenue\, Clayton\, MO\, USA
CATEGORIES:Board Meeting
END:VEVENT
END:VCALENDAR