BEGIN:VCALENDAR
VERSION:2.0
PRODID:-//St. Louis Economic Development Partnership - ECPv6.15.20//NONSGML v1.0//EN
CALSCALE:GREGORIAN
METHOD:PUBLISH
X-ORIGINAL-URL:https://stlpartnership.com
X-WR-CALDESC:Events for St. Louis Economic Development Partnership
REFRESH-INTERVAL;VALUE=DURATION:PT1H
X-Robots-Tag:noindex
X-PUBLISHED-TTL:PT1H
BEGIN:VTIMEZONE
TZID:America/Chicago
BEGIN:DAYLIGHT
TZOFFSETFROM:-0600
TZOFFSETTO:-0500
TZNAME:CDT
DTSTART:20240310T080000
END:DAYLIGHT
BEGIN:STANDARD
TZOFFSETFROM:-0500
TZOFFSETTO:-0600
TZNAME:CST
DTSTART:20241103T070000
END:STANDARD
BEGIN:DAYLIGHT
TZOFFSETFROM:-0600
TZOFFSETTO:-0500
TZNAME:CDT
DTSTART:20250309T080000
END:DAYLIGHT
BEGIN:STANDARD
TZOFFSETFROM:-0500
TZOFFSETTO:-0600
TZNAME:CST
DTSTART:20251102T070000
END:STANDARD
BEGIN:DAYLIGHT
TZOFFSETFROM:-0600
TZOFFSETTO:-0500
TZNAME:CDT
DTSTART:20260308T080000
END:DAYLIGHT
BEGIN:STANDARD
TZOFFSETFROM:-0500
TZOFFSETTO:-0600
TZNAME:CST
DTSTART:20261101T070000
END:STANDARD
END:VTIMEZONE
BEGIN:VEVENT
DTSTART;TZID=America/Chicago:20250410T093000
DTEND;TZID=America/Chicago:20250410T103000
DTSTAMP:20260419T112755
CREATED:20250103T140331Z
LAST-MODIFIED:20250404T174539Z
UID:19084-1744277400-1744281000@stlpartnership.com
SUMMARY:IDA Board of Directors Meeting
DESCRIPTION:See Agenda Here. 
URL:https://stlpartnership.com/events/ida-board-of-directors-meeting-5/
LOCATION:120 South Central Avenue\, Clayton\, MO\, USA\, 120 South Central Avenue\, Clayton\, MO\, USA
CATEGORIES:Board Meeting
END:VEVENT
BEGIN:VEVENT
DTSTART;TZID=America/Chicago:20250417T160000
DTEND;TZID=America/Chicago:20250417T170000
DTSTAMP:20260419T112755
CREATED:20241004T144016Z
LAST-MODIFIED:20250411T193646Z
UID:18725-1744905600-1744909200@stlpartnership.com
SUMMARY:St. Louis County Port Authority Board Meeting
DESCRIPTION:See agenda here.
URL:https://stlpartnership.com/events/st-louis-county-port-authority-board-meeting-27/
LOCATION:120 South Central Avenue\, Clayton\, MO\, USA\, 120 South Central Avenue\, Clayton\, MO\, USA
CATEGORIES:Board Meeting
END:VEVENT
BEGIN:VEVENT
DTSTART;TZID=America/Chicago:20250423T153000
DTEND;TZID=America/Chicago:20250423T163000
DTSTAMP:20260419T112755
CREATED:20250109T150241Z
LAST-MODIFIED:20250422T155010Z
UID:19108-1745422200-1745425800@stlpartnership.com
SUMMARY:St. Louis Economic Development Partnership Board Meeting
DESCRIPTION:See Agenda Here. 
URL:https://stlpartnership.com/events/st-louis-economic-development-partnership-board-meeting-21/
LOCATION:120 South Central Avenue\, Clayton\, MO\, USA\, 120 South Central Avenue\, Clayton\, MO\, USA
CATEGORIES:Board Meeting
END:VEVENT
BEGIN:VEVENT
DTSTART;TZID=America/Chicago:20250506T103000
DTEND;TZID=America/Chicago:20250506T113000
DTSTAMP:20260419T112755
CREATED:20250109T152538Z
LAST-MODIFIED:20250505T192610Z
UID:19110-1746527400-1746531000@stlpartnership.com
SUMMARY:St. Louis Venture Works Board Meeting
DESCRIPTION:See agenda here.
URL:https://stlpartnership.com/events/st-louis-venture-works-board-meeting-13/
LOCATION:120 South Central Avenue\, Clayton\, MO\, USA\, 120 South Central Avenue\, Clayton\, MO\, USA
CATEGORIES:Board Meeting
END:VEVENT
BEGIN:VEVENT
DTSTART;TZID=America/Chicago:20250515T160000
DTEND;TZID=America/Chicago:20250515T170000
DTSTAMP:20260419T112755
CREATED:20241004T144045Z
LAST-MODIFIED:20250512T202930Z
UID:18727-1747324800-1747328400@stlpartnership.com
SUMMARY:St. Louis County Port Authority Board Meeting
DESCRIPTION:See Agenda Here. 
URL:https://stlpartnership.com/events/st-louis-county-port-authority-board-meeting-28/
LOCATION:120 South Central Avenue\, Clayton\, MO\, USA\, 120 South Central Avenue\, Clayton\, MO\, USA
CATEGORIES:Board Meeting
END:VEVENT
BEGIN:VEVENT
DTSTART;TZID=America/Chicago:20250519T110000
DTEND;TZID=America/Chicago:20250519T120000
DTSTAMP:20260419T112755
CREATED:20250515T205148Z
LAST-MODIFIED:20250515T205148Z
UID:19854-1747652400-1747656000@stlpartnership.com
SUMMARY:Special LJDC Board Meeting
DESCRIPTION:See agenda here. 
URL:https://stlpartnership.com/events/special-ljdc-board-meeting/
LOCATION:120 South Central Avenue\, Clayton\, MO\, USA\, 120 South Central Avenue\, Clayton\, MO\, USA
CATEGORIES:Board Meeting
END:VEVENT
BEGIN:VEVENT
DTSTART;TZID=America/Chicago:20250522T160000
DTEND;TZID=America/Chicago:20250522T170000
DTSTAMP:20260419T112755
CREATED:20241212T183906Z
LAST-MODIFIED:20250520T185738Z
UID:18972-1747929600-1747933200@stlpartnership.com
SUMMARY:World Trade Center – St. Louis Board of Directors Meeting
DESCRIPTION:See Agenda Here. 
URL:https://stlpartnership.com/events/world-trade-center-st-louis-board-of-directors-meeting-17/
LOCATION:120 South Central Avenue\, Clayton\, MO\, USA\, 120 South Central Avenue\, Clayton\, MO\, USA
CATEGORIES:Board Meeting
END:VEVENT
BEGIN:VEVENT
DTSTART;TZID=America/Chicago:20250528T090000
DTEND;TZID=America/Chicago:20250528T100000
DTSTAMP:20260419T112755
CREATED:20250109T153455Z
LAST-MODIFIED:20251105T212711Z
UID:19112-1748422800-1748426400@stlpartnership.com
SUMMARY:LCRA Board Meeting - May 2025
DESCRIPTION:See Agenda Here. 
URL:https://stlpartnership.com/events/lcra-board-meeting-24/
LOCATION:120 South Central Avenue\, Clayton\, MO\, USA\, 120 South Central Avenue\, Clayton\, MO\, USA
CATEGORIES:Board Meeting
END:VEVENT
BEGIN:VEVENT
DTSTART;TZID=America/Chicago:20250611T083000
DTEND;TZID=America/Chicago:20250611T093000
DTSTAMP:20260419T112755
CREATED:20250109T153830Z
LAST-MODIFIED:20250609T125121Z
UID:19115-1749630600-1749634200@stlpartnership.com
SUMMARY:STL Partnership CDC Board Meeting
DESCRIPTION:See agenda here. 
URL:https://stlpartnership.com/events/stl-partnership-cdc-board-meeting-6/
LOCATION:120 South Central Avenue\, Clayton\, MO\, USA\, 120 South Central Avenue\, Clayton\, MO\, USA
CATEGORIES:Board Meeting
END:VEVENT
BEGIN:VEVENT
DTSTART;TZID=America/Chicago:20250612T160000
DTEND;TZID=America/Chicago:20250612T170000
DTSTAMP:20260419T112755
CREATED:20241212T212530Z
LAST-MODIFIED:20250611T211133Z
UID:18980-1749744000-1749747600@stlpartnership.com
SUMMARY:Cancelled: Gateway to the Midwest Investment Center Board of Directors Meeting
DESCRIPTION:This has been cancelled.
URL:https://stlpartnership.com/events/gateway-to-the-midwest-investment-center-board-of-directors-meeting-11/
LOCATION:120 South Central Avenue\, Clayton\, MO\, USA\, 120 South Central Avenue\, Clayton\, MO\, USA
CATEGORIES:Board Meeting
END:VEVENT
BEGIN:VEVENT
DTSTART;TZID=America/Chicago:20250616T130000
DTEND;TZID=America/Chicago:20250616T140000
DTSTAMP:20260419T112755
CREATED:20250612T193150Z
LAST-MODIFIED:20250616T133516Z
UID:20156-1750078800-1750082400@stlpartnership.com
SUMMARY:HRIF Advisory Board Meeting
DESCRIPTION:See Agenda here.
URL:https://stlpartnership.com/events/hrif-advisory-board-meeting-2/
LOCATION:120 South Central Avenue\, Clayton\, MO\, USA\, 120 South Central Avenue\, Clayton\, MO\, USA
CATEGORIES:Board Meeting
END:VEVENT
BEGIN:VEVENT
DTSTART;TZID=America/Chicago:20250617T103000
DTEND;TZID=America/Chicago:20250617T120000
DTSTAMP:20260419T112755
CREATED:20250109T154146Z
LAST-MODIFIED:20250613T195447Z
UID:19117-1750156200-1750161600@stlpartnership.com
SUMMARY:CANCELLED - LJDC Board of Directors Meeting
DESCRIPTION:This event has been cancelled. \n 
URL:https://stlpartnership.com/events/ljdc-board-of-directors-meeting/
LOCATION:120 South Central Avenue\, Clayton\, MO\, USA\, 120 South Central Avenue\, Clayton\, MO\, USA
CATEGORIES:Board Meeting
END:VEVENT
BEGIN:VEVENT
DTSTART;TZID=America/Chicago:20250625T130000
DTEND;TZID=America/Chicago:20250625T140000
DTSTAMP:20260419T112755
CREATED:20250612T193559Z
LAST-MODIFIED:20250616T173426Z
UID:20158-1750856400-1750860000@stlpartnership.com
SUMMARY:CANCELLED - Special IDA Board Meeting
DESCRIPTION:This event has been cancelled.
URL:https://stlpartnership.com/events/special-ida-board-meeting/
LOCATION:120 South Central Avenue\, Clayton\, MO\, USA\, 120 South Central Avenue\, Clayton\, MO\, USA
CATEGORIES:Board Meeting
END:VEVENT
BEGIN:VEVENT
DTSTART;TZID=America/Chicago:20250625T153000
DTEND;TZID=America/Chicago:20250625T163000
DTSTAMP:20260419T112755
CREATED:20250110T192851Z
LAST-MODIFIED:20250619T152015Z
UID:19151-1750865400-1750869000@stlpartnership.com
SUMMARY:St. Louis Economic Development Partnership Board Meeting
DESCRIPTION:See agenda here.
URL:https://stlpartnership.com/events/st-louis-economic-development-partnership-board-meeting-22/
LOCATION:120 South Central Avenue\, Clayton\, MO\, USA\, 120 South Central Avenue\, Clayton\, MO\, USA
CATEGORIES:Board Meeting
END:VEVENT
BEGIN:VEVENT
DTSTART;TZID=America/Chicago:20250626T160000
DTEND;TZID=America/Chicago:20250626T170000
DTSTAMP:20260419T112755
CREATED:20241004T144124Z
LAST-MODIFIED:20250623T123608Z
UID:18728-1750953600-1750957200@stlpartnership.com
SUMMARY:St. Louis County Port Authority Board Meeting
DESCRIPTION:This meeting was changed to the 4th Thursday of the month because of the holiday on the 19th. \n  \nSee Agenda Here.
URL:https://stlpartnership.com/events/st-louis-county-port-authority-board-meeting-29/
LOCATION:120 South Central Avenue\, Clayton\, MO\, USA\, 120 South Central Avenue\, Clayton\, MO\, USA
CATEGORIES:Board Meeting
END:VEVENT
BEGIN:VEVENT
DTSTART;TZID=America/Chicago:20250710T093000
DTEND;TZID=America/Chicago:20250710T100000
DTSTAMP:20260419T112755
CREATED:20250109T155346Z
LAST-MODIFIED:20250707T123536Z
UID:19121-1752139800-1752141600@stlpartnership.com
SUMMARY:IDA Board of Directors Meeting
DESCRIPTION:See agenda here.
URL:https://stlpartnership.com/events/ida-board-of-directors-meeting-8/
LOCATION:120 South Central Avenue\, Clayton\, MO\, USA\, 120 South Central Avenue\, Clayton\, MO\, USA
CATEGORIES:Board Meeting
END:VEVENT
BEGIN:VEVENT
DTSTART;TZID=America/Chicago:20250717T160000
DTEND;TZID=America/Chicago:20250717T170000
DTSTAMP:20260419T112755
CREATED:20241004T144222Z
LAST-MODIFIED:20250711T190839Z
UID:18733-1752768000-1752771600@stlpartnership.com
SUMMARY:St. Louis County Port Authority Board Meeting
DESCRIPTION:See agenda here.
URL:https://stlpartnership.com/events/st-louis-county-port-authority-board-meeting-30/
LOCATION:120 South Central Avenue\, Clayton\, MO\, USA\, 120 South Central Avenue\, Clayton\, MO\, USA
CATEGORIES:Board Meeting
END:VEVENT
BEGIN:VEVENT
DTSTART;TZID=America/Chicago:20250723T090000
DTEND;TZID=America/Chicago:20250723T100000
DTSTAMP:20260419T112755
CREATED:20250109T155559Z
LAST-MODIFIED:20251105T212659Z
UID:19123-1753261200-1753264800@stlpartnership.com
SUMMARY:LCRA Board Meeting - July 2025
DESCRIPTION:See agenda here.
URL:https://stlpartnership.com/events/lcra-board-meeting-july25/
LOCATION:120 South Central Avenue\, Clayton\, MO\, USA\, 120 South Central Avenue\, Clayton\, MO\, USA
CATEGORIES:Board Meeting
END:VEVENT
BEGIN:VEVENT
DTSTART;TZID=America/Chicago:20250807T140000
DTEND;TZID=America/Chicago:20250807T150000
DTSTAMP:20260419T112755
CREATED:20250805T191414Z
LAST-MODIFIED:20250805T191414Z
UID:20605-1754575200-1754578800@stlpartnership.com
SUMMARY:STL Partnership CDC Quarterly Meeting
DESCRIPTION:See agenda here. 
URL:https://stlpartnership.com/events/stl-partnership-cdc-quarterly-meeting/
LOCATION:120 South Central Avenue\, Clayton\, MO\, USA\, 120 South Central Avenue\, Clayton\, MO\, USA
CATEGORIES:Board Meeting
END:VEVENT
BEGIN:VEVENT
DTSTART;TZID=America/Chicago:20250818T113000
DTEND;TZID=America/Chicago:20250818T123000
DTSTAMP:20260419T112755
CREATED:20250110T193355Z
LAST-MODIFIED:20250814T160310Z
UID:19153-1755516600-1755520200@stlpartnership.com
SUMMARY:St. Louis Venture Works Board Meeting
DESCRIPTION:See agenda here. 
URL:https://stlpartnership.com/events/st-louis-venture-works-board-meeting-14/
LOCATION:120 South Central Avenue\, Clayton\, MO\, USA\, 120 South Central Avenue\, Clayton\, MO\, USA
CATEGORIES:Board Meeting
END:VEVENT
BEGIN:VEVENT
DTSTART;TZID=America/Chicago:20250821T160000
DTEND;TZID=America/Chicago:20250821T170000
DTSTAMP:20260419T112755
CREATED:20241004T144303Z
LAST-MODIFIED:20250815T193438Z
UID:18735-1755792000-1755795600@stlpartnership.com
SUMMARY:St. Louis County Port Authority Board Meeting
DESCRIPTION:See agenda here. 
URL:https://stlpartnership.com/events/st-louis-county-port-authority-board-meeting-31/
LOCATION:120 South Central Avenue\, Clayton\, MO\, USA\, 120 South Central Avenue\, Clayton\, MO\, USA
CATEGORIES:Board Meeting
END:VEVENT
BEGIN:VEVENT
DTSTART;TZID=America/Chicago:20250827T153000
DTEND;TZID=America/Chicago:20250827T163000
DTSTAMP:20260419T112755
CREATED:20250110T193727Z
LAST-MODIFIED:20250822T123401Z
UID:19155-1756308600-1756312200@stlpartnership.com
SUMMARY:St. Louis Economic Development Partnership Board Meeting
DESCRIPTION:See agenda here. 
URL:https://stlpartnership.com/events/st-louis-economic-development-partnership-board-meeting-23/
LOCATION:120 South Central Avenue\, Clayton\, MO\, USA\, 120 South Central Avenue\, Clayton\, MO\, USA
CATEGORIES:Board Meeting
END:VEVENT
BEGIN:VEVENT
DTSTART;TZID=America/Chicago:20250828T160000
DTEND;TZID=America/Chicago:20250828T170000
DTSTAMP:20260419T112755
CREATED:20241212T183931Z
LAST-MODIFIED:20251105T212922Z
UID:18973-1756396800-1756400400@stlpartnership.com
SUMMARY:World Trade Center – St. Louis Board of Directors Meeting - August 2025
DESCRIPTION:See agenda here.
URL:https://stlpartnership.com/events/world-trade-center-st-louis-board-of-directors-meeting-18/
LOCATION:120 South Central Avenue\, Clayton\, MO\, USA\, 120 South Central Avenue\, Clayton\, MO\, USA
CATEGORIES:Board Meeting
END:VEVENT
BEGIN:VEVENT
DTSTART;TZID=America/Chicago:20250908T160000
DTEND;TZID=America/Chicago:20250908T170000
DTSTAMP:20260419T112755
CREATED:20250820T195734Z
LAST-MODIFIED:20250905T180237Z
UID:20707-1757347200-1757350800@stlpartnership.com
SUMMARY:Special IDA Board Meeting
DESCRIPTION:See agenda here.
URL:https://stlpartnership.com/events/special-ida-board-meeting-2/
LOCATION:120 South Central Avenue\, Clayton\, MO\, USA\, 120 South Central Avenue\, Clayton\, MO\, USA
CATEGORIES:Board Meeting
END:VEVENT
BEGIN:VEVENT
DTSTART;TZID=America/Chicago:20250910T083000
DTEND;TZID=America/Chicago:20250910T093000
DTSTAMP:20260419T112755
CREATED:20250110T194600Z
LAST-MODIFIED:20250908T151143Z
UID:19160-1757493000-1757496600@stlpartnership.com
SUMMARY:STL Partnership CDC Board Meeting
DESCRIPTION:See agenda here. 
URL:https://stlpartnership.com/events/stl-partnership-cdc-board-meeting-7/
LOCATION:120 South Central Avenue\, Clayton\, MO\, USA\, 120 South Central Avenue\, Clayton\, MO\, USA
CATEGORIES:Board Meeting
END:VEVENT
BEGIN:VEVENT
DTSTART;TZID=America/Chicago:20250911T160000
DTEND;TZID=America/Chicago:20250911T170000
DTSTAMP:20260419T112755
CREATED:20241212T212605Z
LAST-MODIFIED:20250610T185648Z
UID:18982-1757606400-1757610000@stlpartnership.com
SUMMARY:CANCELLED - Gateway to the Midwest Investment Center Board of Directors Meeting
DESCRIPTION:This event has been cancelled.
URL:https://stlpartnership.com/events/gateway-to-the-midwest-investment-center-board-of-directors-meeting-12/
LOCATION:120 South Central Avenue\, Clayton\, MO\, USA\, 120 South Central Avenue\, Clayton\, MO\, USA
CATEGORIES:Board Meeting
END:VEVENT
BEGIN:VEVENT
DTSTART;TZID=America/Chicago:20250916T103000
DTEND;TZID=America/Chicago:20250916T120000
DTSTAMP:20260419T112755
CREATED:20250110T195442Z
LAST-MODIFIED:20250827T161821Z
UID:19169-1758018600-1758024000@stlpartnership.com
SUMMARY:CANCELLED - LJDC Board of Directors Meeting
DESCRIPTION:This event has been cancelled.
URL:https://stlpartnership.com/events/ljdc-board-of-directors-meeting-4/
LOCATION:120 South Central Avenue\, Clayton\, MO\, USA\, 120 South Central Avenue\, Clayton\, MO\, USA
CATEGORIES:Board Meeting
END:VEVENT
BEGIN:VEVENT
DTSTART;TZID=America/Chicago:20250918T163000
DTEND;TZID=America/Chicago:20250918T173000
DTSTAMP:20260419T112755
CREATED:20250916T182843Z
LAST-MODIFIED:20251105T212836Z
UID:20760-1758213000-1758216600@stlpartnership.com
SUMMARY:Special IDA Board Meeting - September 18\, 2025
DESCRIPTION:See agenda here.
URL:https://stlpartnership.com/events/special-ida-board-meeting-3/
LOCATION:120 South Central Avenue\, Clayton\, MO\, USA\, 120 South Central Avenue\, Clayton\, MO\, USA
CATEGORIES:Board Meeting
END:VEVENT
BEGIN:VEVENT
DTSTART;TZID=America/Chicago:20250924T090000
DTEND;TZID=America/Chicago:20250924T100000
DTSTAMP:20260419T112755
CREATED:20250110T200936Z
LAST-MODIFIED:20251105T212738Z
UID:19176-1758704400-1758708000@stlpartnership.com
SUMMARY:LCRA Board Meeting - September 2025
DESCRIPTION:See here for agenda. 
URL:https://stlpartnership.com/events/lcra-board-meeting-26/
LOCATION:120 South Central Avenue\, Clayton\, MO\, USA\, 120 South Central Avenue\, Clayton\, MO\, USA
CATEGORIES:Board Meeting
END:VEVENT
BEGIN:VEVENT
DTSTART;TZID=America/Chicago:20250925T160000
DTEND;TZID=America/Chicago:20250925T170000
DTSTAMP:20260419T112755
CREATED:20241004T144332Z
LAST-MODIFIED:20250919T190636Z
UID:18734-1758816000-1758819600@stlpartnership.com
SUMMARY:St. Louis County Port Authority Board Meeting
DESCRIPTION:See here for agenda. 
URL:https://stlpartnership.com/events/st-louis-county-port-authority-board-meeting-32/
LOCATION:120 South Central Avenue\, Clayton\, MO\, USA\, 120 South Central Avenue\, Clayton\, MO\, USA
CATEGORIES:Board Meeting
END:VEVENT
END:VCALENDAR