BEGIN:VCALENDAR
VERSION:2.0
PRODID:-//St. Louis Economic Development Partnership - ECPv6.15.20//NONSGML v1.0//EN
CALSCALE:GREGORIAN
METHOD:PUBLISH
X-ORIGINAL-URL:https://stlpartnership.com
X-WR-CALDESC:Events for St. Louis Economic Development Partnership
REFRESH-INTERVAL;VALUE=DURATION:PT1H
X-Robots-Tag:noindex
X-PUBLISHED-TTL:PT1H
BEGIN:VTIMEZONE
TZID:America/Chicago
BEGIN:DAYLIGHT
TZOFFSETFROM:-0600
TZOFFSETTO:-0500
TZNAME:CDT
DTSTART:20220313T080000
END:DAYLIGHT
BEGIN:STANDARD
TZOFFSETFROM:-0500
TZOFFSETTO:-0600
TZNAME:CST
DTSTART:20221106T070000
END:STANDARD
BEGIN:DAYLIGHT
TZOFFSETFROM:-0600
TZOFFSETTO:-0500
TZNAME:CDT
DTSTART:20230312T080000
END:DAYLIGHT
BEGIN:STANDARD
TZOFFSETFROM:-0500
TZOFFSETTO:-0600
TZNAME:CST
DTSTART:20231105T070000
END:STANDARD
BEGIN:DAYLIGHT
TZOFFSETFROM:-0600
TZOFFSETTO:-0500
TZNAME:CDT
DTSTART:20240310T080000
END:DAYLIGHT
BEGIN:STANDARD
TZOFFSETFROM:-0500
TZOFFSETTO:-0600
TZNAME:CST
DTSTART:20241103T070000
END:STANDARD
END:VTIMEZONE
BEGIN:VEVENT
DTSTART;TZID=America/Chicago:20230119T160000
DTEND;TZID=America/Chicago:20230119T170000
DTSTAMP:20260421T211438
CREATED:20240329T175602Z
LAST-MODIFIED:20240417T154024Z
UID:15703-1674144000-1674147600@stlpartnership.com
SUMMARY:St. Louis County Port Authority Board Meeting
DESCRIPTION:St. Louis County Port Authority Board Meeting on January 19\, 2023 at 4:00 PM. \nSee agenda here.
URL:https://stlpartnership.com/events/st-louis-county-port-authority-board-meeting-3/
LOCATION:7733 Forsyth Boulevard\, Clayton\, MO\, USA\, 7733 Forsyth Boulevard\, Clayton\, MO\, USA
CATEGORIES:Board Meeting
END:VEVENT
BEGIN:VEVENT
DTSTART;TZID=America/Chicago:20230125T130000
DTEND;TZID=America/Chicago:20230125T140000
DTSTAMP:20260421T211438
CREATED:20240325T202847Z
LAST-MODIFIED:20240417T154535Z
UID:15559-1674651600-1674655200@stlpartnership.com
SUMMARY:LCRA Board Meeting
DESCRIPTION:SLEDP Board Room 2203 \nSee agenda here ›
URL:https://stlpartnership.com/events/lcra-board-meeting-14/
LOCATION:7733 Forsyth Boulevard\, Clayton\, MO\, USA\, 7733 Forsyth Boulevard\, Clayton\, MO\, USA
CATEGORIES:Board Meeting
END:VEVENT
BEGIN:VEVENT
DTSTART;TZID=America/Chicago:20230202T150000
DTEND;TZID=America/Chicago:20230202T153000
DTSTAMP:20260421T211438
CREATED:20240321T171136Z
LAST-MODIFIED:20240417T154212Z
UID:15327-1675350000-1675351800@stlpartnership.com
SUMMARY:Gateway to the Midwest Investment Center Board of Directors Meeting
DESCRIPTION:See the agenda here ›
URL:https://stlpartnership.com/events/gateway-to-the-midwest-investment-center-board-of-directors-meeting-3/
LOCATION:120 South Central Avenue\, Clayton\, MO\, USA\, 120 South Central Avenue\, Clayton\, MO\, USA
CATEGORIES:Board Meeting
END:VEVENT
BEGIN:VEVENT
DTSTART;TZID=America/Chicago:20230207T103000
DTEND;TZID=America/Chicago:20230207T113000
DTSTAMP:20260421T211438
CREATED:20240401T181122Z
LAST-MODIFIED:20240417T154448Z
UID:15798-1675765800-1675769400@stlpartnership.com
SUMMARY:St. Louis Venture Works Board Meeting
DESCRIPTION:
URL:https://stlpartnership.com/events/st-louis-venture-works-board-meeting-5/
LOCATION:7733 Forsyth Boulevard\, Clayton\, MO\, USA\, 7733 Forsyth Boulevard\, Clayton\, MO\, USA
CATEGORIES:Board Meeting
END:VEVENT
BEGIN:VEVENT
DTSTART;TZID=America/Chicago:20230216T160000
DTEND;TZID=America/Chicago:20230216T170000
DTSTAMP:20260421T211438
CREATED:20240329T175645Z
LAST-MODIFIED:20240417T154027Z
UID:15706-1676563200-1676566800@stlpartnership.com
SUMMARY:St. Louis County Port Authority Board Meeting
DESCRIPTION:St. Louis County Port Authority Board Meeting on February 16\, 2023 at 4:00 PM. \nSee agenda here.
URL:https://stlpartnership.com/events/st-louis-county-port-authority-board-meeting-4/
LOCATION:7733 Forsyth Boulevard\, Clayton\, MO\, USA\, 7733 Forsyth Boulevard\, Clayton\, MO\, USA
CATEGORIES:Board Meeting
END:VEVENT
BEGIN:VEVENT
DTSTART;TZID=America/Chicago:20230217T110000
DTEND;TZID=America/Chicago:20230217T120000
DTSTAMP:20260421T211438
CREATED:20240321T174716Z
LAST-MODIFIED:20240417T154605Z
UID:15377-1676631600-1676635200@stlpartnership.com
SUMMARY:IDA Board of Directors Meeting
DESCRIPTION:See Agenda here ›
URL:https://stlpartnership.com/events/ida-board-of-directors-meeting/
LOCATION:7733 Forsyth Boulevard\, Clayton\, MO\, USA\, 7733 Forsyth Boulevard\, Clayton\, MO\, USA
CATEGORIES:Board Meeting
END:VEVENT
BEGIN:VEVENT
DTSTART;TZID=America/Chicago:20230222T153000
DTEND;TZID=America/Chicago:20230222T163000
DTSTAMP:20260421T211438
CREATED:20240401T174657Z
LAST-MODIFIED:20240417T154310Z
UID:15750-1677079800-1677083400@stlpartnership.com
SUMMARY:St. Louis Economic Development Partnership Board Meeting
DESCRIPTION:St. Louis Economic Development Partnership Board meeting on February 22 at 3:30 PM. \nSee agenda here.
URL:https://stlpartnership.com/events/st-louis-economic-development-partnership-board-meeting-8/
LOCATION:7733 Forsyth Boulevard\, Clayton\, MO\, USA\, 7733 Forsyth Boulevard\, Clayton\, MO\, USA
CATEGORIES:Board Meeting
END:VEVENT
BEGIN:VEVENT
DTSTART;TZID=America/Chicago:20230223T160000
DTEND;TZID=America/Chicago:20230223T170000
DTSTAMP:20260421T211438
CREATED:20240401T204522Z
LAST-MODIFIED:20240417T153819Z
UID:15866-1677168000-1677171600@stlpartnership.com
SUMMARY:World Trade Center - St. Louis Board of Directors Meeting
DESCRIPTION:Board Meetings may be hybrid meetings with both in-person and Zoom available. \nSee the agenda here. \nJoin Zoom Meeting \nMeeting ID: 814 6051 6393\nPasscode: 330485
URL:https://stlpartnership.com/events/world-trade-center-st-louis-board-of-directors-meeting-2/
LOCATION:7733 Forsyth Boulevard\, Clayton\, MO\, USA\, 7733 Forsyth Boulevard\, Clayton\, MO\, USA
CATEGORIES:Board Meeting
END:VEVENT
BEGIN:VEVENT
DTSTART;TZID=America/Chicago:20230309T130000
DTEND;TZID=America/Chicago:20230309T140000
DTSTAMP:20260421T211438
CREATED:20240401T175416Z
LAST-MODIFIED:20240417T154702Z
UID:15771-1678366800-1678370400@stlpartnership.com
SUMMARY:St. Louis Critical Technologies Corporation Board Meeting
DESCRIPTION:See agenda here.
URL:https://stlpartnership.com/events/st-louis-critical-technologies-corporation-board-meeting/
LOCATION:7733 Forsyth Boulevard\, Clayton\, MO\, USA\, 7733 Forsyth Boulevard\, Clayton\, MO\, USA
CATEGORIES:Board Meeting
END:VEVENT
BEGIN:VEVENT
DTSTART;TZID=America/Chicago:20230321T103000
DTEND;TZID=America/Chicago:20230321T113000
DTSTAMP:20260421T211438
CREATED:20240328T204636Z
LAST-MODIFIED:20240417T153859Z
UID:15628-1679394600-1679398200@stlpartnership.com
SUMMARY:Midwest Cargo Hub Commission (MCHC) Board Meeting
DESCRIPTION:See the agenda here.
URL:https://stlpartnership.com/events/midwest-cargo-hub-commission-mchc-board-meeting-5/
LOCATION:7733 Forsyth Boulevard\, Clayton\, MO\, USA\, 7733 Forsyth Boulevard\, Clayton\, MO\, USA
CATEGORIES:Board Meeting
END:VEVENT
BEGIN:VEVENT
DTSTART;TZID=America/Chicago:20230323T160000
DTEND;TZID=America/Chicago:20230323T170000
DTSTAMP:20260421T211438
CREATED:20240329T175802Z
LAST-MODIFIED:20240417T154032Z
UID:15709-1679587200-1679590800@stlpartnership.com
SUMMARY:St. Louis County Port Authority Board Meeting
DESCRIPTION:St. Louis County Port Authority Board Meeting on March 23\, 2023 at 4:00 PM. \nSee agenda here.a
URL:https://stlpartnership.com/events/st-louis-county-port-authority-board-meeting-5-2/
LOCATION:7733 Forsyth Boulevard\, Clayton\, MO\, USA\, 7733 Forsyth Boulevard\, Clayton\, MO\, USA
CATEGORIES:Board Meeting
END:VEVENT
BEGIN:VEVENT
DTSTART;TZID=America/Chicago:20230329T130000
DTEND;TZID=America/Chicago:20230329T140000
DTSTAMP:20260421T211438
CREATED:20240325T203006Z
LAST-MODIFIED:20240417T154532Z
UID:15562-1680094800-1680098400@stlpartnership.com
SUMMARY:LCRA Board Meeting
DESCRIPTION:March 29\, 2023 – rescheduled from March 1\, 2023 \nSee agenda here ›
URL:https://stlpartnership.com/events/lcra-board-meeting-15/
LOCATION:7733 Forsyth Boulevard\, Clayton\, MO\, USA\, 7733 Forsyth Boulevard\, Clayton\, MO\, USA
CATEGORIES:Board Meeting
END:VEVENT
BEGIN:VEVENT
DTSTART;TZID=America/Chicago:20230403T143000
DTEND;TZID=America/Chicago:20230403T153000
DTSTAMP:20260421T211438
CREATED:20240328T205303Z
LAST-MODIFIED:20240417T154250Z
UID:15643-1680532200-1680535800@stlpartnership.com
SUMMARY:Special Meeting of the Board of Directors St. Louis Economic Development Partnership
DESCRIPTION:This meeting has been cancelled. \nST. LOUIS ECONOMIC DEVELOPMENT PARTNERSHIP SPECIAL MEETING OF THE BOARD OF DIRECTORS
URL:https://stlpartnership.com/events/special-meeting-of-the-board-of-directors-st-louis-economic-development-partnership/
LOCATION:7733 Forsyth Boulevard\, Clayton\, MO\, USA\, 7733 Forsyth Boulevard\, Clayton\, MO\, USA
CATEGORIES:Board Meeting
END:VEVENT
BEGIN:VEVENT
DTSTART;TZID=America/Chicago:20230420T160000
DTEND;TZID=America/Chicago:20230420T170000
DTSTAMP:20260421T211438
CREATED:20240329T175906Z
LAST-MODIFIED:20240417T154035Z
UID:15712-1682006400-1682010000@stlpartnership.com
SUMMARY:St. Louis County Port Authority Board Meeting
DESCRIPTION:St. Louis County Port Authority Board Meeting on April\, 2023 at 4:00 PM. \nSee agenda here.
URL:https://stlpartnership.com/events/st-louis-county-port-authority-board-meeting-6-2/
LOCATION:7733 Forsyth Boulevard\, Clayton\, MO\, USA\, 7733 Forsyth Boulevard\, Clayton\, MO\, USA
CATEGORIES:Board Meeting
END:VEVENT
BEGIN:VEVENT
DTSTART;TZID=America/Chicago:20230426T133000
DTEND;TZID=America/Chicago:20230426T143000
DTSTAMP:20260421T211438
CREATED:20240325T204803Z
LAST-MODIFIED:20240417T154127Z
UID:15604-1682515800-1682519400@stlpartnership.com
SUMMARY:Canceled: LJDC Quarterly Board of Directors Meeting
DESCRIPTION:This meeting is cancelled and will be postponed. LJDC Quarterly Board of Directors Meeting April 26 at 1:30 PM.
URL:https://stlpartnership.com/events/ljdc-quarterly-board-of-directors-meeting-5/
LOCATION:7733 Forsyth Boulevard\, Clayton\, MO\, USA\, 7733 Forsyth Boulevard\, Clayton\, MO\, USA
CATEGORIES:Board Meeting
END:VEVENT
BEGIN:VEVENT
DTSTART;TZID=America/Chicago:20230426T153000
DTEND;TZID=America/Chicago:20230426T163000
DTSTAMP:20260421T211438
CREATED:20240401T174723Z
LAST-MODIFIED:20240417T154313Z
UID:15754-1682523000-1682526600@stlpartnership.com
SUMMARY:St. Louis Economic Development Partnership Board Meeting
DESCRIPTION:St. Louis Economic Development Partnership Board meeting on April 26 at 3:30 PM. \nSee agenda here.
URL:https://stlpartnership.com/events/st-louis-economic-development-partnership-board-meeting-9/
LOCATION:7733 Forsyth Boulevard\, Clayton\, MO\, USA\, 7733 Forsyth Boulevard\, Clayton\, MO\, USA
CATEGORIES:Board Meeting
END:VEVENT
BEGIN:VEVENT
DTSTART;TZID=America/Chicago:20230504T160000
DTEND;TZID=America/Chicago:20230504T170000
DTSTAMP:20260421T211438
CREATED:20240321T171314Z
LAST-MODIFIED:20240417T154210Z
UID:15330-1683216000-1683219600@stlpartnership.com
SUMMARY:Gateway to the Midwest Investment Center Board of Directors Meeting
DESCRIPTION:This meeting has been canceled.
URL:https://stlpartnership.com/events/gateway-to-the-midwest-investment-center-board-of-directors-meetin-4/
LOCATION:120 South Central Avenue\, Clayton\, MO\, USA\, 120 South Central Avenue\, Clayton\, MO\, USA
CATEGORIES:Board Meeting
END:VEVENT
BEGIN:VEVENT
DTSTART;TZID=America/Chicago:20230508T160000
DTEND;TZID=America/Chicago:20230508T170000
DTSTAMP:20260421T211438
CREATED:20240328T205434Z
LAST-MODIFIED:20240417T154627Z
UID:15645-1683561600-1683565200@stlpartnership.com
SUMMARY:Special St. Louis County Port Authority Board Meeting
DESCRIPTION:See the agenda here.
URL:https://stlpartnership.com/events/special-st-louis-county-port-authority-board-meeting/
LOCATION:7733 Forsyth Boulevard\, Clayton\, MO\, USA\, 7733 Forsyth Boulevard\, Clayton\, MO\, USA
CATEGORIES:Board Meeting
END:VEVENT
BEGIN:VEVENT
DTSTART;TZID=America/Chicago:20230518T160000
DTEND;TZID=America/Chicago:20230518T170000
DTSTAMP:20260421T211438
CREATED:20240329T180003Z
LAST-MODIFIED:20240417T154039Z
UID:15715-1684425600-1684429200@stlpartnership.com
SUMMARY:St. Louis County Port Authority Board Meeting
DESCRIPTION:St. Louis County Port Authority Board Meeting on May 18\, 2023 at 4:00 PM. \nSee agenda here.
URL:https://stlpartnership.com/events/st-louis-county-port-authority-board-meeting-7-2/
LOCATION:7733 Forsyth Boulevard\, Clayton\, MO\, USA\, 7733 Forsyth Boulevard\, Clayton\, MO\, USA
CATEGORIES:Board Meeting
END:VEVENT
BEGIN:VEVENT
DTSTART;TZID=America/Chicago:20230524T140000
DTEND;TZID=America/Chicago:20230524T150000
DTSTAMP:20260421T211438
CREATED:20240321T174156Z
LAST-MODIFIED:20240417T154610Z
UID:15367-1684936800-1684940400@stlpartnership.com
SUMMARY:IDA Board of Directors Meeting
DESCRIPTION:See Agenda here ›
URL:https://stlpartnership.com/events/ida-board-of-directors-meetin-2/
LOCATION:7733 Forsyth Boulevard\, Clayton\, MO\, USA\, 7733 Forsyth Boulevard\, Clayton\, MO\, USA
CATEGORIES:Board Meeting
END:VEVENT
BEGIN:VEVENT
DTSTART;TZID=America/Chicago:20230524T163000
DTEND;TZID=America/Chicago:20230524T170000
DTSTAMP:20260421T211438
CREATED:20240401T181223Z
LAST-MODIFIED:20240417T154426Z
UID:15800-1684945800-1684947600@stlpartnership.com
SUMMARY:St. Louis Venture Works Board Meeting
DESCRIPTION:See agenda here.
URL:https://stlpartnership.com/events/st-louis-venture-works-board-meeting-6/
LOCATION:7733 Forsyth Boulevard\, Clayton\, MO\, USA\, 7733 Forsyth Boulevard\, Clayton\, MO\, USA
CATEGORIES:Board Meeting
END:VEVENT
BEGIN:VEVENT
DTSTART;TZID=America/Chicago:20230525T160000
DTEND;TZID=America/Chicago:20230525T170000
DTSTAMP:20260421T211438
CREATED:20240401T204608Z
LAST-MODIFIED:20240417T153825Z
UID:15869-1685030400-1685034000@stlpartnership.com
SUMMARY:World Trade Center - St. Louis Board of Directors Meeting
DESCRIPTION:Board Meetings may be hybrid meetings with both in-person and Zoom available. \nSee the agenda here. \nJoin Zoom Meeting \nMeeting ID: 814 6051 6393\nPasscode: 330485 \nPlease RSVP your attendance to Karen Gentles \nEmail: kgentles@worldtradecenter-stl.com
URL:https://stlpartnership.com/events/world-trade-center-st-louis-board-of-directors-meeting-3/
LOCATION:7733 Forsyth Boulevard\, Clayton\, MO\, USA\, 7733 Forsyth Boulevard\, Clayton\, MO\, USA
CATEGORIES:Board Meeting
END:VEVENT
BEGIN:VEVENT
DTSTART;TZID=America/Chicago:20230530T160000
DTEND;TZID=America/Chicago:20230530T170000
DTSTAMP:20260421T211438
CREATED:20230401T204847Z
LAST-MODIFIED:20240418T160341Z
UID:15880-1685462400-1685466000@stlpartnership.com
SUMMARY:World Trade Center - St. Louis Board of Directors Meeting
DESCRIPTION:This meeting has been moved to May 30\, 2024.
URL:https://stlpartnership.com/events/world-trade-center-st-louis-board-of-directors-meeting-7/
LOCATION:7733 Forsyth Boulevard\, Clayton\, MO\, USA\, 7733 Forsyth Boulevard\, Clayton\, MO\, USA
CATEGORIES:Board Meeting
END:VEVENT
BEGIN:VEVENT
DTSTART;TZID=America/Chicago:20230606T103000
DTEND;TZID=America/Chicago:20230606T120000
DTSTAMP:20260421T211438
CREATED:20240325T204847Z
LAST-MODIFIED:20240417T154125Z
UID:15606-1686047400-1686052800@stlpartnership.com
SUMMARY:Canceled: LJDC Quarterly Board of Directors Meeting
DESCRIPTION:This meeting will be rescheduled.
URL:https://stlpartnership.com/events/ljdc-quarterly-board-of-directors-meeting-6/
LOCATION:7733 Forsyth Boulevard\, Clayton\, MO\, USA\, 7733 Forsyth Boulevard\, Clayton\, MO\, USA
CATEGORIES:Board Meeting
END:VEVENT
BEGIN:VEVENT
DTSTART;TZID=America/Chicago:20230613T100000
DTEND;TZID=America/Chicago:20230613T110000
DTSTAMP:20260421T211438
CREATED:20240325T203151Z
LAST-MODIFIED:20240417T154530Z
UID:15565-1686650400-1686654000@stlpartnership.com
SUMMARY:LCRA Board Meeting
DESCRIPTION:See agenda here › \nJoin Zoom Meeting \nMeeting ID: 899 6788 9561 \nPasscode: 123842 \nDial by your location: 312 626 6799 \nMeeting ID: 899 6788 9561 \nPasscode: 123842
URL:https://stlpartnership.com/events/lcra-board-meeting-16/
LOCATION:7733 Forsyth Boulevard\, Clayton\, MO\, USA\, 7733 Forsyth Boulevard\, Clayton\, MO\, USA
CATEGORIES:Board Meeting
END:VEVENT
BEGIN:VEVENT
DTSTART;TZID=America/Chicago:20230614T080000
DTEND;TZID=America/Chicago:20230614T090000
DTSTAMP:20260421T211438
CREATED:20240401T203234Z
LAST-MODIFIED:20240417T154348Z
UID:15825-1686729600-1686733200@stlpartnership.com
SUMMARY:STL Partnership CDC 2023 Board Meeting
DESCRIPTION:See the agenda here.
URL:https://stlpartnership.com/events/stl-partnership-cdc-2023-board-meeting-2/
LOCATION:7733 Forsyth Boulevard\, Clayton\, MO\, USA\, 7733 Forsyth Boulevard\, Clayton\, MO\, USA
CATEGORIES:Board Meeting
END:VEVENT
BEGIN:VEVENT
DTSTART;TZID=America/Chicago:20230615T160000
DTEND;TZID=America/Chicago:20230615T170000
DTSTAMP:20260421T211438
CREATED:20240329T180059Z
LAST-MODIFIED:20240417T154043Z
UID:15718-1686844800-1686848400@stlpartnership.com
SUMMARY:St. Louis County Port Authority Board Meeting
DESCRIPTION:St. Louis County Port Authority Board Meeting on June 15\, 2023 at 4:00 PM. \nSee agenda here.
URL:https://stlpartnership.com/events/st-louis-county-port-authority-board-meeting-8-2/
LOCATION:7733 Forsyth Boulevard\, Clayton\, MO\, USA\, 7733 Forsyth Boulevard\, Clayton\, MO\, USA
CATEGORIES:Board Meeting
END:VEVENT
BEGIN:VEVENT
DTSTART;TZID=America/Chicago:20230628T153000
DTEND;TZID=America/Chicago:20230628T163000
DTSTAMP:20260421T211438
CREATED:20240401T174833Z
LAST-MODIFIED:20240417T154315Z
UID:15758-1687966200-1687969800@stlpartnership.com
SUMMARY:St. Louis Economic Development Partnership Board Meeting
DESCRIPTION:St. Louis Economic Development Partnership Board meeting on June 28 at 3:30 PM. \nSee agenda here.
URL:https://stlpartnership.com/events/st-louis-economic-development-partnership-board-meeting-10/
LOCATION:7733 Forsyth Boulevard\, Clayton\, MO\, USA\, 7733 Forsyth Boulevard\, Clayton\, MO\, USA
CATEGORIES:Board Meeting
END:VEVENT
BEGIN:VEVENT
DTSTART;TZID=America/Chicago:20230713T093000
DTEND;TZID=America/Chicago:20230713T103000
DTSTAMP:20260421T211438
CREATED:20240321T174455Z
LAST-MODIFIED:20240417T154608Z
UID:15371-1689240600-1689244200@stlpartnership.com
SUMMARY:IDA Board of Directors Meeting
DESCRIPTION:This meeting has been canceled.
URL:https://stlpartnership.com/events/ida-board-of-directors-meeting-3/
LOCATION:7733 Forsyth Boulevard\, Clayton\, MO\, USA\, 7733 Forsyth Boulevard\, Clayton\, MO\, USA
CATEGORIES:Board Meeting
END:VEVENT
BEGIN:VEVENT
DTSTART;TZID=America/Chicago:20230720T160000
DTEND;TZID=America/Chicago:20230720T170000
DTSTAMP:20260421T211438
CREATED:20240329T180142Z
LAST-MODIFIED:20240417T154049Z
UID:15721-1689868800-1689872400@stlpartnership.com
SUMMARY:St. Louis County Port Authority Board Meeting
DESCRIPTION:St. Louis County Port Authority Board Meeting on July 20\, 2023 at 4:00 PM. \nSee agenda here.
URL:https://stlpartnership.com/events/st-louis-county-port-authority-board-meeting-9-2/
LOCATION:7733 Forsyth Boulevard\, Clayton\, MO\, USA\, 7733 Forsyth Boulevard\, Clayton\, MO\, USA
CATEGORIES:Board Meeting
END:VEVENT
END:VCALENDAR