BEGIN:VCALENDAR
VERSION:2.0
PRODID:-//St. Louis Economic Development Partnership - ECPv6.15.20//NONSGML v1.0//EN
CALSCALE:GREGORIAN
METHOD:PUBLISH
X-WR-CALNAME:St. Louis Economic Development Partnership
X-ORIGINAL-URL:https://stlpartnership.com
X-WR-CALDESC:Events for St. Louis Economic Development Partnership
REFRESH-INTERVAL;VALUE=DURATION:PT1H
X-Robots-Tag:noindex
X-PUBLISHED-TTL:PT1H
BEGIN:VTIMEZONE
TZID:America/Chicago
BEGIN:DAYLIGHT
TZOFFSETFROM:-0600
TZOFFSETTO:-0500
TZNAME:CDT
DTSTART:20230312T080000
END:DAYLIGHT
BEGIN:STANDARD
TZOFFSETFROM:-0500
TZOFFSETTO:-0600
TZNAME:CST
DTSTART:20231105T070000
END:STANDARD
BEGIN:DAYLIGHT
TZOFFSETFROM:-0600
TZOFFSETTO:-0500
TZNAME:CDT
DTSTART:20240310T080000
END:DAYLIGHT
BEGIN:STANDARD
TZOFFSETFROM:-0500
TZOFFSETTO:-0600
TZNAME:CST
DTSTART:20241103T070000
END:STANDARD
BEGIN:DAYLIGHT
TZOFFSETFROM:-0600
TZOFFSETTO:-0500
TZNAME:CDT
DTSTART:20250309T080000
END:DAYLIGHT
BEGIN:STANDARD
TZOFFSETFROM:-0500
TZOFFSETTO:-0600
TZNAME:CST
DTSTART:20251102T070000
END:STANDARD
END:VTIMEZONE
BEGIN:VEVENT
DTSTART;TZID=America/Chicago:20240306T090000
DTEND;TZID=America/Chicago:20240306T100000
DTSTAMP:20260420T051303
CREATED:20240301T171408Z
LAST-MODIFIED:20240529T221820Z
UID:16317-1709715600-1709719200@stlpartnership.com
SUMMARY:Special LCRA Board Meeting
DESCRIPTION:See Agenda here.
URL:https://stlpartnership.com/events/special-lcra-board-meeting-2/
LOCATION:120 South Central Avenue\, Clayton\, MO\, USA\, 120 South Central Avenue\, Clayton\, MO\, USA
CATEGORIES:Board Meeting
END:VEVENT
BEGIN:VEVENT
DTSTART;TZID=America/Chicago:20240313T080000
DTEND;TZID=America/Chicago:20240313T090000
DTSTAMP:20260420T051303
CREATED:20240301T171620Z
LAST-MODIFIED:20240529T161826Z
UID:16321-1710316800-1710320400@stlpartnership.com
SUMMARY:STL Partnership CDC Board Meeting
DESCRIPTION:See Agenda here.
URL:https://stlpartnership.com/events/stl-partnership-cdc-board-meeting/
LOCATION:120 South Central Avenue\, Clayton\, MO\, USA\, 120 South Central Avenue\, Clayton\, MO\, USA
CATEGORIES:Board Meeting
END:VEVENT
BEGIN:VEVENT
DTSTART;TZID=America/Chicago:20240314T160000
DTEND;TZID=America/Chicago:20240314T170000
DTSTAMP:20260420T051303
CREATED:20240301T171838Z
LAST-MODIFIED:20240529T221748Z
UID:16325-1710432000-1710435600@stlpartnership.com
SUMMARY:St. Louis County Port Authority Board Meeting
DESCRIPTION:See Agenda here.
URL:https://stlpartnership.com/events/st-louis-county-port-authority-board-meeting-15/
LOCATION:120 South Central Avenue\, Clayton\, MO\, USA\, 120 South Central Avenue\, Clayton\, MO\, USA
CATEGORIES:Board Meeting
END:VEVENT
BEGIN:VEVENT
DTSTART;TZID=America/Chicago:20240314T160000
DTEND;TZID=America/Chicago:20240314T170000
DTSTAMP:20260420T051303
CREATED:20240301T172522Z
LAST-MODIFIED:20240529T162642Z
UID:16331-1710432000-1710435600@stlpartnership.com
SUMMARY:Cancelled - Gateway to the Midwest Investment center Board of Directors Meeting
DESCRIPTION:This meeting has been cancelled and will be rescheduled for a later date. \n 
URL:https://stlpartnership.com/events/cancelled-gateway-to-the-midwest-investment-center-board-of-directors-meeting/
LOCATION:120 South Central Avenue\, Clayton\, MO\, USA\, 120 South Central Avenue\, Clayton\, MO\, USA
CATEGORIES:Board Meeting
END:VEVENT
BEGIN:VEVENT
DTSTART;TZID=America/Chicago:20240327T090000
DTEND;TZID=America/Chicago:20240327T100000
DTSTAMP:20260420T051303
CREATED:20240301T173104Z
LAST-MODIFIED:20240529T163159Z
UID:16339-1711530000-1711533600@stlpartnership.com
SUMMARY:Cancelled - LCRA Board Meeting
DESCRIPTION:This meeting was held on March 6. \n 
URL:https://stlpartnership.com/events/cancelled-lcra-board-meeting/
LOCATION:120 South Central Avenue\, Clayton\, MO\, USA\, 120 South Central Avenue\, Clayton\, MO\, USA
CATEGORIES:Board Meeting
END:VEVENT
END:VCALENDAR