BEGIN:VCALENDAR
VERSION:2.0
PRODID:-//St. Louis Economic Development Partnership - ECPv6.15.20//NONSGML v1.0//EN
CALSCALE:GREGORIAN
METHOD:PUBLISH
X-WR-CALNAME:St. Louis Economic Development Partnership
X-ORIGINAL-URL:https://stlpartnership.com
X-WR-CALDESC:Events for St. Louis Economic Development Partnership
REFRESH-INTERVAL;VALUE=DURATION:PT1H
X-Robots-Tag:noindex
X-PUBLISHED-TTL:PT1H
BEGIN:VTIMEZONE
TZID:America/Chicago
BEGIN:DAYLIGHT
TZOFFSETFROM:-0600
TZOFFSETTO:-0500
TZNAME:CDT
DTSTART:20220313T080000
END:DAYLIGHT
BEGIN:STANDARD
TZOFFSETFROM:-0500
TZOFFSETTO:-0600
TZNAME:CST
DTSTART:20221106T070000
END:STANDARD
BEGIN:DAYLIGHT
TZOFFSETFROM:-0600
TZOFFSETTO:-0500
TZNAME:CDT
DTSTART:20230312T080000
END:DAYLIGHT
BEGIN:STANDARD
TZOFFSETFROM:-0500
TZOFFSETTO:-0600
TZNAME:CST
DTSTART:20231105T070000
END:STANDARD
BEGIN:DAYLIGHT
TZOFFSETFROM:-0600
TZOFFSETTO:-0500
TZNAME:CDT
DTSTART:20240310T080000
END:DAYLIGHT
BEGIN:STANDARD
TZOFFSETFROM:-0500
TZOFFSETTO:-0600
TZNAME:CST
DTSTART:20241103T070000
END:STANDARD
END:VTIMEZONE
BEGIN:VEVENT
DTSTART;TZID=America/Chicago:20230606T103000
DTEND;TZID=America/Chicago:20230606T120000
DTSTAMP:20260420T185326
CREATED:20240325T204847Z
LAST-MODIFIED:20240417T154125Z
UID:15606-1686047400-1686052800@stlpartnership.com
SUMMARY:Canceled: LJDC Quarterly Board of Directors Meeting
DESCRIPTION:This meeting will be rescheduled.
URL:https://stlpartnership.com/events/ljdc-quarterly-board-of-directors-meeting-6/
LOCATION:7733 Forsyth Boulevard\, Clayton\, MO\, USA\, 7733 Forsyth Boulevard\, Clayton\, MO\, USA
CATEGORIES:Board Meeting
END:VEVENT
BEGIN:VEVENT
DTSTART;TZID=America/Chicago:20230613T100000
DTEND;TZID=America/Chicago:20230613T110000
DTSTAMP:20260420T185326
CREATED:20240325T203151Z
LAST-MODIFIED:20240417T154530Z
UID:15565-1686650400-1686654000@stlpartnership.com
SUMMARY:LCRA Board Meeting
DESCRIPTION:See agenda here › \nJoin Zoom Meeting \nMeeting ID: 899 6788 9561 \nPasscode: 123842 \nDial by your location: 312 626 6799 \nMeeting ID: 899 6788 9561 \nPasscode: 123842
URL:https://stlpartnership.com/events/lcra-board-meeting-16/
LOCATION:7733 Forsyth Boulevard\, Clayton\, MO\, USA\, 7733 Forsyth Boulevard\, Clayton\, MO\, USA
CATEGORIES:Board Meeting
END:VEVENT
BEGIN:VEVENT
DTSTART;TZID=America/Chicago:20230614T080000
DTEND;TZID=America/Chicago:20230614T090000
DTSTAMP:20260420T185326
CREATED:20240401T203234Z
LAST-MODIFIED:20240417T154348Z
UID:15825-1686729600-1686733200@stlpartnership.com
SUMMARY:STL Partnership CDC 2023 Board Meeting
DESCRIPTION:See the agenda here.
URL:https://stlpartnership.com/events/stl-partnership-cdc-2023-board-meeting-2/
LOCATION:7733 Forsyth Boulevard\, Clayton\, MO\, USA\, 7733 Forsyth Boulevard\, Clayton\, MO\, USA
CATEGORIES:Board Meeting
END:VEVENT
BEGIN:VEVENT
DTSTART;TZID=America/Chicago:20230615T160000
DTEND;TZID=America/Chicago:20230615T170000
DTSTAMP:20260420T185326
CREATED:20240329T180059Z
LAST-MODIFIED:20240417T154043Z
UID:15718-1686844800-1686848400@stlpartnership.com
SUMMARY:St. Louis County Port Authority Board Meeting
DESCRIPTION:St. Louis County Port Authority Board Meeting on June 15\, 2023 at 4:00 PM. \nSee agenda here.
URL:https://stlpartnership.com/events/st-louis-county-port-authority-board-meeting-8-2/
LOCATION:7733 Forsyth Boulevard\, Clayton\, MO\, USA\, 7733 Forsyth Boulevard\, Clayton\, MO\, USA
CATEGORIES:Board Meeting
END:VEVENT
BEGIN:VEVENT
DTSTART;TZID=America/Chicago:20230628T153000
DTEND;TZID=America/Chicago:20230628T163000
DTSTAMP:20260420T185326
CREATED:20240401T174833Z
LAST-MODIFIED:20240417T154315Z
UID:15758-1687966200-1687969800@stlpartnership.com
SUMMARY:St. Louis Economic Development Partnership Board Meeting
DESCRIPTION:St. Louis Economic Development Partnership Board meeting on June 28 at 3:30 PM. \nSee agenda here.
URL:https://stlpartnership.com/events/st-louis-economic-development-partnership-board-meeting-10/
LOCATION:7733 Forsyth Boulevard\, Clayton\, MO\, USA\, 7733 Forsyth Boulevard\, Clayton\, MO\, USA
CATEGORIES:Board Meeting
END:VEVENT
END:VCALENDAR