BEGIN:VCALENDAR
VERSION:2.0
PRODID:-//St. Louis Economic Development Partnership - ECPv6.15.20//NONSGML v1.0//EN
CALSCALE:GREGORIAN
METHOD:PUBLISH
X-ORIGINAL-URL:https://stlpartnership.com
X-WR-CALDESC:Events for St. Louis Economic Development Partnership
REFRESH-INTERVAL;VALUE=DURATION:PT1H
X-Robots-Tag:noindex
X-PUBLISHED-TTL:PT1H
BEGIN:VTIMEZONE
TZID:America/Chicago
BEGIN:DAYLIGHT
TZOFFSETFROM:-0600
TZOFFSETTO:-0500
TZNAME:CDT
DTSTART:20220313T080000
END:DAYLIGHT
BEGIN:STANDARD
TZOFFSETFROM:-0500
TZOFFSETTO:-0600
TZNAME:CST
DTSTART:20221106T070000
END:STANDARD
BEGIN:DAYLIGHT
TZOFFSETFROM:-0600
TZOFFSETTO:-0500
TZNAME:CDT
DTSTART:20230312T080000
END:DAYLIGHT
BEGIN:STANDARD
TZOFFSETFROM:-0500
TZOFFSETTO:-0600
TZNAME:CST
DTSTART:20231105T070000
END:STANDARD
BEGIN:DAYLIGHT
TZOFFSETFROM:-0600
TZOFFSETTO:-0500
TZNAME:CDT
DTSTART:20240310T080000
END:DAYLIGHT
BEGIN:STANDARD
TZOFFSETFROM:-0500
TZOFFSETTO:-0600
TZNAME:CST
DTSTART:20241103T070000
END:STANDARD
END:VTIMEZONE
BEGIN:VEVENT
DTSTART;TZID=America/Chicago:20230403T143000
DTEND;TZID=America/Chicago:20230403T153000
DTSTAMP:20260420T221031
CREATED:20240328T205303Z
LAST-MODIFIED:20240417T154250Z
UID:15643-1680532200-1680535800@stlpartnership.com
SUMMARY:Special Meeting of the Board of Directors St. Louis Economic Development Partnership
DESCRIPTION:This meeting has been cancelled. \nST. LOUIS ECONOMIC DEVELOPMENT PARTNERSHIP SPECIAL MEETING OF THE BOARD OF DIRECTORS
URL:https://stlpartnership.com/events/special-meeting-of-the-board-of-directors-st-louis-economic-development-partnership/
LOCATION:7733 Forsyth Boulevard\, Clayton\, MO\, USA\, 7733 Forsyth Boulevard\, Clayton\, MO\, USA
CATEGORIES:Board Meeting
END:VEVENT
BEGIN:VEVENT
DTSTART;TZID=America/Chicago:20230420T160000
DTEND;TZID=America/Chicago:20230420T170000
DTSTAMP:20260420T221031
CREATED:20240329T175906Z
LAST-MODIFIED:20240417T154035Z
UID:15712-1682006400-1682010000@stlpartnership.com
SUMMARY:St. Louis County Port Authority Board Meeting
DESCRIPTION:St. Louis County Port Authority Board Meeting on April\, 2023 at 4:00 PM. \nSee agenda here.
URL:https://stlpartnership.com/events/st-louis-county-port-authority-board-meeting-6-2/
LOCATION:7733 Forsyth Boulevard\, Clayton\, MO\, USA\, 7733 Forsyth Boulevard\, Clayton\, MO\, USA
CATEGORIES:Board Meeting
END:VEVENT
BEGIN:VEVENT
DTSTART;TZID=America/Chicago:20230426T133000
DTEND;TZID=America/Chicago:20230426T143000
DTSTAMP:20260420T221031
CREATED:20240325T204803Z
LAST-MODIFIED:20240417T154127Z
UID:15604-1682515800-1682519400@stlpartnership.com
SUMMARY:Canceled: LJDC Quarterly Board of Directors Meeting
DESCRIPTION:This meeting is cancelled and will be postponed. LJDC Quarterly Board of Directors Meeting April 26 at 1:30 PM.
URL:https://stlpartnership.com/events/ljdc-quarterly-board-of-directors-meeting-5/
LOCATION:7733 Forsyth Boulevard\, Clayton\, MO\, USA\, 7733 Forsyth Boulevard\, Clayton\, MO\, USA
CATEGORIES:Board Meeting
END:VEVENT
BEGIN:VEVENT
DTSTART;TZID=America/Chicago:20230426T153000
DTEND;TZID=America/Chicago:20230426T163000
DTSTAMP:20260420T221031
CREATED:20240401T174723Z
LAST-MODIFIED:20240417T154313Z
UID:15754-1682523000-1682526600@stlpartnership.com
SUMMARY:St. Louis Economic Development Partnership Board Meeting
DESCRIPTION:St. Louis Economic Development Partnership Board meeting on April 26 at 3:30 PM. \nSee agenda here.
URL:https://stlpartnership.com/events/st-louis-economic-development-partnership-board-meeting-9/
LOCATION:7733 Forsyth Boulevard\, Clayton\, MO\, USA\, 7733 Forsyth Boulevard\, Clayton\, MO\, USA
CATEGORIES:Board Meeting
END:VEVENT
END:VCALENDAR