BEGIN:VCALENDAR
VERSION:2.0
PRODID:-//St. Louis Economic Development Partnership - ECPv6.15.20//NONSGML v1.0//EN
CALSCALE:GREGORIAN
METHOD:PUBLISH
X-ORIGINAL-URL:https://stlpartnership.com
X-WR-CALDESC:Events for St. Louis Economic Development Partnership
REFRESH-INTERVAL;VALUE=DURATION:PT1H
X-Robots-Tag:noindex
X-PUBLISHED-TTL:PT1H
BEGIN:VTIMEZONE
TZID:America/Chicago
BEGIN:DAYLIGHT
TZOFFSETFROM:-0600
TZOFFSETTO:-0500
TZNAME:CDT
DTSTART:20220313T080000
END:DAYLIGHT
BEGIN:STANDARD
TZOFFSETFROM:-0500
TZOFFSETTO:-0600
TZNAME:CST
DTSTART:20221106T070000
END:STANDARD
BEGIN:DAYLIGHT
TZOFFSETFROM:-0600
TZOFFSETTO:-0500
TZNAME:CDT
DTSTART:20230312T080000
END:DAYLIGHT
BEGIN:STANDARD
TZOFFSETFROM:-0500
TZOFFSETTO:-0600
TZNAME:CST
DTSTART:20231105T070000
END:STANDARD
BEGIN:DAYLIGHT
TZOFFSETFROM:-0600
TZOFFSETTO:-0500
TZNAME:CDT
DTSTART:20240310T080000
END:DAYLIGHT
BEGIN:STANDARD
TZOFFSETFROM:-0500
TZOFFSETTO:-0600
TZNAME:CST
DTSTART:20241103T070000
END:STANDARD
END:VTIMEZONE
BEGIN:VEVENT
DTSTART;TZID=America/Chicago:20230118T160000
DTEND;TZID=America/Chicago:20230118T170000
DTSTAMP:20260421T030524
CREATED:20240102T211734Z
LAST-MODIFIED:20240417T154139Z
UID:15545-1674057600-1674061200@stlpartnership.com
SUMMARY:Lambert Joint Development Commission Board Meeting
DESCRIPTION:Lambert Joint Development Commission Board Meeting will be held on January 18 from 4:00 PM – 5:00 PM. \nSee agenda here ›
URL:https://stlpartnership.com/events/lambert-joint-development-commission-board-meeting/
LOCATION:7733 Forsyth Boulevard\, Clayton\, MO\, USA\, 7733 Forsyth Boulevard\, Clayton\, MO\, USA
CATEGORIES:Board Meeting
END:VEVENT
BEGIN:VEVENT
DTSTART;TZID=America/Chicago:20230119T160000
DTEND;TZID=America/Chicago:20230119T170000
DTSTAMP:20260421T030524
CREATED:20240329T175602Z
LAST-MODIFIED:20240417T154024Z
UID:15703-1674144000-1674147600@stlpartnership.com
SUMMARY:St. Louis County Port Authority Board Meeting
DESCRIPTION:St. Louis County Port Authority Board Meeting on January 19\, 2023 at 4:00 PM. \nSee agenda here.
URL:https://stlpartnership.com/events/st-louis-county-port-authority-board-meeting-3/
LOCATION:7733 Forsyth Boulevard\, Clayton\, MO\, USA\, 7733 Forsyth Boulevard\, Clayton\, MO\, USA
CATEGORIES:Board Meeting
END:VEVENT
BEGIN:VEVENT
DTSTART;TZID=America/Chicago:20230125T130000
DTEND;TZID=America/Chicago:20230125T140000
DTSTAMP:20260421T030524
CREATED:20240325T202847Z
LAST-MODIFIED:20240417T154535Z
UID:15559-1674651600-1674655200@stlpartnership.com
SUMMARY:LCRA Board Meeting
DESCRIPTION:SLEDP Board Room 2203 \nSee agenda here ›
URL:https://stlpartnership.com/events/lcra-board-meeting-14/
LOCATION:7733 Forsyth Boulevard\, Clayton\, MO\, USA\, 7733 Forsyth Boulevard\, Clayton\, MO\, USA
CATEGORIES:Board Meeting
END:VEVENT
END:VCALENDAR