BEGIN:VCALENDAR
VERSION:2.0
PRODID:-//St. Louis Economic Development Partnership - ECPv6.15.20//NONSGML v1.0//EN
CALSCALE:GREGORIAN
METHOD:PUBLISH
X-ORIGINAL-URL:https://stlpartnership.com
X-WR-CALDESC:Events for St. Louis Economic Development Partnership
REFRESH-INTERVAL;VALUE=DURATION:PT1H
X-Robots-Tag:noindex
X-PUBLISHED-TTL:PT1H
BEGIN:VTIMEZONE
TZID:America/Chicago
BEGIN:DAYLIGHT
TZOFFSETFROM:-0600
TZOFFSETTO:-0500
TZNAME:CDT
DTSTART:20210314T080000
END:DAYLIGHT
BEGIN:STANDARD
TZOFFSETFROM:-0500
TZOFFSETTO:-0600
TZNAME:CST
DTSTART:20211107T070000
END:STANDARD
BEGIN:DAYLIGHT
TZOFFSETFROM:-0600
TZOFFSETTO:-0500
TZNAME:CDT
DTSTART:20220313T080000
END:DAYLIGHT
BEGIN:STANDARD
TZOFFSETFROM:-0500
TZOFFSETTO:-0600
TZNAME:CST
DTSTART:20221106T070000
END:STANDARD
BEGIN:DAYLIGHT
TZOFFSETFROM:-0600
TZOFFSETTO:-0500
TZNAME:CDT
DTSTART:20230312T080000
END:DAYLIGHT
BEGIN:STANDARD
TZOFFSETFROM:-0500
TZOFFSETTO:-0600
TZNAME:CST
DTSTART:20231105T070000
END:STANDARD
END:VTIMEZONE
BEGIN:VEVENT
DTSTART;TZID=America/Chicago:20220801T103000
DTEND;TZID=America/Chicago:20220801T113000
DTSTAMP:20260421T104011
CREATED:20240401T180900Z
LAST-MODIFIED:20240417T154446Z
UID:15791-1659349800-1659353400@stlpartnership.com
SUMMARY:St. Louis Venture Works Board Meeting
DESCRIPTION:St. Louis Venture Works Board Meeting on August 1 at 10:30 A.M.
URL:https://stlpartnership.com/events/st-louis-venture-works-board-meeting-3/
LOCATION:7733 Forsyth Boulevard\, Clayton\, MO\, USA\, 7733 Forsyth Boulevard\, Clayton\, MO\, USA
CATEGORIES:Board Meeting
END:VEVENT
BEGIN:VEVENT
DTSTART;TZID=America/Chicago:20220802T160000
DTEND;TZID=America/Chicago:20220802T170000
DTSTAMP:20260421T104011
CREATED:20240328T205601Z
LAST-MODIFIED:20240417T154716Z
UID:15648-1659456000-1659459600@stlpartnership.com
SUMMARY:St. Louis County Port Authority Board Meeting
DESCRIPTION:RESCHEDULED: St. Louis County Port Authority Board Meeting that was planned for July 28\, 2022 at 4:00 PM has been rescheduled to Tuesday\, August 2\, 2022 at 4:00 PM. \nUpdated agenda can be seen here.
URL:https://stlpartnership.com/events/st-louis-county-port-authority-board-meeting-10/
LOCATION:7733 Forsyth Boulevard\, Clayton\, MO\, USA\, 7733 Forsyth Boulevard\, Clayton\, MO\, USA
CATEGORIES:Board Meeting
END:VEVENT
BEGIN:VEVENT
DTSTART;TZID=America/Chicago:20220817T090000
DTEND;TZID=America/Chicago:20220817T100000
DTSTAMP:20260421T104011
CREATED:20240325T204340Z
LAST-MODIFIED:20240417T154505Z
UID:15597-1660726800-1660730400@stlpartnership.com
SUMMARY:LCRA Board Meeting
DESCRIPTION:SLEDP Board Room 2203 \nSee agenda here ›
URL:https://stlpartnership.com/events/lcra-board-meeting-9/
LOCATION:7733 Forsyth Boulevard\, Clayton\, MO\, USA\, 7733 Forsyth Boulevard\, Clayton\, MO\, USA
CATEGORIES:Board Meeting
END:VEVENT
BEGIN:VEVENT
DTSTART;TZID=America/Chicago:20220824T153000
DTEND;TZID=America/Chicago:20220824T163000
DTSTAMP:20260421T104011
CREATED:20240401T174301Z
LAST-MODIFIED:20240417T154301Z
UID:15738-1661355000-1661358600@stlpartnership.com
SUMMARY:St. Louis Economic Development Partnership Board Meeting
DESCRIPTION:St. Louis Economic Development Partnership Board meeting on August 24 at 3:30 PM. \nSee agenda here.
URL:https://stlpartnership.com/events/st-louis-economic-development-partnership-board-meeting-4/
LOCATION:7733 Forsyth Boulevard\, Clayton\, MO\, USA\, 7733 Forsyth Boulevard\, Clayton\, MO\, USA
CATEGORIES:Board Meeting
END:VEVENT
END:VCALENDAR