BEGIN:VCALENDAR
VERSION:2.0
PRODID:-//St. Louis Economic Development Partnership - ECPv6.15.20//NONSGML v1.0//EN
CALSCALE:GREGORIAN
METHOD:PUBLISH
X-ORIGINAL-URL:https://stlpartnership.com
X-WR-CALDESC:Events for St. Louis Economic Development Partnership
REFRESH-INTERVAL;VALUE=DURATION:PT1H
X-Robots-Tag:noindex
X-PUBLISHED-TTL:PT1H
BEGIN:VTIMEZONE
TZID:America/Chicago
BEGIN:DAYLIGHT
TZOFFSETFROM:-0600
TZOFFSETTO:-0500
TZNAME:CDT
DTSTART:20210314T080000
END:DAYLIGHT
BEGIN:STANDARD
TZOFFSETFROM:-0500
TZOFFSETTO:-0600
TZNAME:CST
DTSTART:20211107T070000
END:STANDARD
BEGIN:DAYLIGHT
TZOFFSETFROM:-0600
TZOFFSETTO:-0500
TZNAME:CDT
DTSTART:20220313T080000
END:DAYLIGHT
BEGIN:STANDARD
TZOFFSETFROM:-0500
TZOFFSETTO:-0600
TZNAME:CST
DTSTART:20221106T070000
END:STANDARD
BEGIN:DAYLIGHT
TZOFFSETFROM:-0600
TZOFFSETTO:-0500
TZNAME:CDT
DTSTART:20230312T080000
END:DAYLIGHT
BEGIN:STANDARD
TZOFFSETFROM:-0500
TZOFFSETTO:-0600
TZNAME:CST
DTSTART:20231105T070000
END:STANDARD
END:VTIMEZONE
BEGIN:VEVENT
DTSTART;TZID=America/Chicago:20220601T120000
DTEND;TZID=America/Chicago:20220601T130000
DTSTAMP:20260421T140315
CREATED:20240321T173512Z
LAST-MODIFIED:20240417T154741Z
UID:15358-1654084800-1654088400@stlpartnership.com
SUMMARY:HRIF Advisory Board Meeting
DESCRIPTION:See agenda and Zoom link here ›
URL:https://stlpartnership.com/events/hrif-advisory-board-meeting-6/
LOCATION:7733 Forsyth Boulevard\, Clayton\, MO\, USA\, 7733 Forsyth Boulevard\, Clayton\, MO\, USA
CATEGORIES:Board Meeting
END:VEVENT
BEGIN:VEVENT
DTSTART;TZID=America/Chicago:20220608T120000
DTEND;TZID=America/Chicago:20220608T130000
DTSTAMP:20260421T140315
CREATED:20240321T173947Z
LAST-MODIFIED:20240417T154739Z
UID:15364-1654689600-1654693200@stlpartnership.com
SUMMARY:HRIF Advisory Board Meeting
DESCRIPTION:See agenda and Zoom link here ›
URL:https://stlpartnership.com/events/hrif-advisory-board-meeting-7/
LOCATION:120 South Central Avenue\, Clayton\, MO\, USA\, 120 South Central Avenue\, Clayton\, MO\, USA
CATEGORIES:Board Meeting
END:VEVENT
BEGIN:VEVENT
DTSTART;TZID=America/Chicago:20220615T090000
DTEND;TZID=America/Chicago:20220615T100000
DTSTAMP:20260421T140315
CREATED:20240325T204155Z
LAST-MODIFIED:20240417T154509Z
UID:15592-1655283600-1655287200@stlpartnership.com
SUMMARY:LCRA Board Meeting
DESCRIPTION:The June LCRA Board meeting has been canceled.
URL:https://stlpartnership.com/events/lcra-board-meeting-7/
LOCATION:7733 Forsyth Boulevard\, Clayton\, MO\, USA\, 7733 Forsyth Boulevard\, Clayton\, MO\, USA
CATEGORIES:Board Meeting
END:VEVENT
BEGIN:VEVENT
DTSTART;TZID=America/Chicago:20220621T103000
DTEND;TZID=America/Chicago:20220621T120000
DTSTAMP:20260421T140315
CREATED:20240325T204610Z
LAST-MODIFIED:20240417T154133Z
UID:15600-1655807400-1655812800@stlpartnership.com
SUMMARY:Canceled: LJDC Quarterly Board of Directors Meeting
DESCRIPTION:The June 21\, 2022 LJDC Board of Directors meeting has been canceled.
URL:https://stlpartnership.com/events/ljdc-quarterly-board-of-directors-meeting-2/
LOCATION:7733 Forsyth Boulevard\, Clayton\, MO\, USA\, 7733 Forsyth Boulevard\, Clayton\, MO\, USA
CATEGORIES:Board Meeting
END:VEVENT
BEGIN:VEVENT
DTSTART;TZID=America/Chicago:20220622T080000
DTEND;TZID=America/Chicago:20220622T090000
DTSTAMP:20260421T140315
CREATED:20240401T202923Z
LAST-MODIFIED:20240417T154356Z
UID:15816-1655884800-1655888400@stlpartnership.com
SUMMARY:STL Partnership CDC 2022 Board Meeting
DESCRIPTION:STL Partnership CDC 2022 Board of Directors Meeting June 22\, 2022 at 8:00 AM. \nAgenda for the Board Meeting can be found here.
URL:https://stlpartnership.com/events/stl-partnership-cdc-2022-board-meeting/
LOCATION:7733 Forsyth Boulevard\, Clayton\, MO\, USA\, 7733 Forsyth Boulevard\, Clayton\, MO\, USA
CATEGORIES:Board Meeting
END:VEVENT
BEGIN:VEVENT
DTSTART;TZID=America/Chicago:20220622T153000
DTEND;TZID=America/Chicago:20220622T163000
DTSTAMP:20260421T140315
CREATED:20240401T174233Z
LAST-MODIFIED:20240417T154258Z
UID:15734-1655911800-1655915400@stlpartnership.com
SUMMARY:St. Louis Economic Development Partnership Board Meeting
DESCRIPTION:St. Louis Economic Development Partnership Board meeting on June 22 at 3:30 PM. \nSee agenda here.
URL:https://stlpartnership.com/events/st-louis-economic-development-partnership-board-meeting-3/
LOCATION:7733 Forsyth Boulevard\, Clayton\, MO\, USA\, 7733 Forsyth Boulevard\, Clayton\, MO\, USA
CATEGORIES:Board Meeting
END:VEVENT
BEGIN:VEVENT
DTSTART;TZID=America/Chicago:20220623T160000
DTEND;TZID=America/Chicago:20220623T170000
DTSTAMP:20260421T140315
CREATED:20240329T175212Z
LAST-MODIFIED:20240417T154733Z
UID:15691-1656000000-1656003600@stlpartnership.com
SUMMARY:St. Louis County Port Authority Board Meeting
DESCRIPTION:St. Louis County Port Authority Board Meeting on June 23\, 2022 at 4:00 PM. \nSee agenda here.
URL:https://stlpartnership.com/events/st-louis-county-port-authority-board-meeting-9/
LOCATION:7733 Forsyth Boulevard\, Clayton\, MO\, USA\, 7733 Forsyth Boulevard\, Clayton\, MO\, USA
CATEGORIES:Board Meeting
END:VEVENT
BEGIN:VEVENT
DTSTART;TZID=America/Chicago:20220628T103000
DTEND;TZID=America/Chicago:20220628T113000
DTSTAMP:20260421T140315
CREATED:20240328T204402Z
LAST-MODIFIED:20240417T153913Z
UID:15617-1656412200-1656415800@stlpartnership.com
SUMMARY:Midwest Cargo Hub Commission (MCHC) Board Meeting
DESCRIPTION:See agenda and Zoom link here.
URL:https://stlpartnership.com/events/midwest-cargo-hub-commission-mchc-board-meeting-2/
LOCATION:7733 Forsyth Boulevard\, Clayton\, MO\, USA\, 7733 Forsyth Boulevard\, Clayton\, MO\, USA
CATEGORIES:Board Meeting
END:VEVENT
BEGIN:VEVENT
DTSTART;TZID=America/Chicago:20220629T160000
DTEND;TZID=America/Chicago:20220629T170000
DTSTAMP:20260421T140315
CREATED:20240401T175637Z
LAST-MODIFIED:20240417T154727Z
UID:15776-1656518400-1656522000@stlpartnership.com
SUMMARY:St. Louis Critical Technologies Corporation Meeting of the Board of Directors
DESCRIPTION:ST. LOUIS CRITICAL TECHNOLOGIES CORPORATION MEETING OF THE BOARD OF DIRECTORS is on June 29 at 4 PM. \nSee the agenda here.
URL:https://stlpartnership.com/events/st-louis-critical-technologies-corporation-meeting-of-the-board-of-directors/
LOCATION:7733 Forsyth Boulevard\, Clayton\, MO\, USA\, 7733 Forsyth Boulevard\, Clayton\, MO\, USA
CATEGORIES:Board Meeting
END:VEVENT
END:VCALENDAR