BEGIN:VCALENDAR
VERSION:2.0
PRODID:-//St. Louis Economic Development Partnership - ECPv6.15.20//NONSGML v1.0//EN
CALSCALE:GREGORIAN
METHOD:PUBLISH
X-WR-CALNAME:St. Louis Economic Development Partnership
X-ORIGINAL-URL:https://stlpartnership.com
X-WR-CALDESC:Events for St. Louis Economic Development Partnership
REFRESH-INTERVAL;VALUE=DURATION:PT1H
X-Robots-Tag:noindex
X-PUBLISHED-TTL:PT1H
BEGIN:VTIMEZONE
TZID:America/Chicago
BEGIN:DAYLIGHT
TZOFFSETFROM:-0600
TZOFFSETTO:-0500
TZNAME:CDT
DTSTART:20210314T080000
END:DAYLIGHT
BEGIN:STANDARD
TZOFFSETFROM:-0500
TZOFFSETTO:-0600
TZNAME:CST
DTSTART:20211107T070000
END:STANDARD
BEGIN:DAYLIGHT
TZOFFSETFROM:-0600
TZOFFSETTO:-0500
TZNAME:CDT
DTSTART:20220313T080000
END:DAYLIGHT
BEGIN:STANDARD
TZOFFSETFROM:-0500
TZOFFSETTO:-0600
TZNAME:CST
DTSTART:20221106T070000
END:STANDARD
BEGIN:DAYLIGHT
TZOFFSETFROM:-0600
TZOFFSETTO:-0500
TZNAME:CDT
DTSTART:20230312T080000
END:DAYLIGHT
BEGIN:STANDARD
TZOFFSETFROM:-0500
TZOFFSETTO:-0600
TZNAME:CST
DTSTART:20231105T070000
END:STANDARD
END:VTIMEZONE
BEGIN:VEVENT
DTSTART;TZID=America/Chicago:20220511T083000
DTEND;TZID=America/Chicago:20220511T093000
DTSTAMP:20260421T154950
CREATED:20240401T202801Z
LAST-MODIFIED:20240417T154359Z
UID:15812-1652257800-1652261400@stlpartnership.com
SUMMARY:STL Partnership CDC Special Board Meeting of the Board of Directors
DESCRIPTION:STL PARTNERSHIP CDC SPECIAL BOARD MEETING OF THE BOARD OF DIRECTORS \nSee agenda here.
URL:https://stlpartnership.com/events/stl-partnership-cdc-special-board-meeting-of-the-board-of-directors/
LOCATION:7733 Forsyth Boulevard\, Clayton\, MO\, USA\, 7733 Forsyth Boulevard\, Clayton\, MO\, USA
CATEGORIES:Board Meeting
END:VEVENT
BEGIN:VEVENT
DTSTART;TZID=America/Chicago:20220511T150000
DTEND;TZID=America/Chicago:20220511T160000
DTSTAMP:20260421T154950
CREATED:20240401T180303Z
LAST-MODIFIED:20240417T154437Z
UID:15786-1652281200-1652284800@stlpartnership.com
SUMMARY:St. Louis Venture Works Board Meeting
DESCRIPTION:St. Louis Venture Works Board Meeting on May 11 at 1:30 P.M. \nSee the agenda here.
URL:https://stlpartnership.com/events/st-louis-venture-works-board-meeting-2/
LOCATION:7733 Forsyth Boulevard\, Clayton\, MO\, USA\, 7733 Forsyth Boulevard\, Clayton\, MO\, USA
CATEGORIES:Board Meeting
END:VEVENT
BEGIN:VEVENT
DTSTART;TZID=America/Chicago:20220518T090000
DTEND;TZID=America/Chicago:20220518T100000
DTSTAMP:20260421T154950
CREATED:20240325T204116Z
LAST-MODIFIED:20240417T154511Z
UID:15589-1652864400-1652868000@stlpartnership.com
SUMMARY:LCRA Board Meeting
DESCRIPTION:See agenda here ›
URL:https://stlpartnership.com/events/lcra-board-meeting-6/
LOCATION:7733 Forsyth Boulevard\, Clayton\, MO\, USA\, 7733 Forsyth Boulevard\, Clayton\, MO\, USA
CATEGORIES:Board Meeting
END:VEVENT
BEGIN:VEVENT
DTSTART;TZID=America/Chicago:20220519T160000
DTEND;TZID=America/Chicago:20220519T170000
DTSTAMP:20260421T154950
CREATED:20240329T175122Z
LAST-MODIFIED:20240417T153955Z
UID:15688-1652976000-1652979600@stlpartnership.com
SUMMARY:St. Louis County Port Authority Board Meeting
DESCRIPTION:St. Louis County Port Authority Board Meeting May 19\, 2022 at 4:00 PM. \nSee agenda here.
URL:https://stlpartnership.com/events/st-louis-county-port-authority-board-meeting-8/
LOCATION:7733 Forsyth Boulevard\, Clayton\, MO\, USA\, 7733 Forsyth Boulevard\, Clayton\, MO\, USA
CATEGORIES:Board Meeting
END:VEVENT
BEGIN:VEVENT
DTSTART;TZID=America/Chicago:20220526T160000
DTEND;TZID=America/Chicago:20220526T170000
DTSTAMP:20260421T154950
CREATED:20240401T204113Z
LAST-MODIFIED:20240417T154827Z
UID:15855-1653580800-1653584400@stlpartnership.com
SUMMARY:World Trade Center - St. Louis Board Meeting
DESCRIPTION:See agenda here.
URL:https://stlpartnership.com/events/world-trade-center-st-louis-board-meeting-7/
LOCATION:7733 Forsyth Boulevard\, Clayton\, MO\, USA\, 7733 Forsyth Boulevard\, Clayton\, MO\, USA
CATEGORIES:Board Meeting
END:VEVENT
END:VCALENDAR