BEGIN:VCALENDAR
VERSION:2.0
PRODID:-//St. Louis Economic Development Partnership - ECPv6.15.20//NONSGML v1.0//EN
CALSCALE:GREGORIAN
METHOD:PUBLISH
X-ORIGINAL-URL:https://stlpartnership.com
X-WR-CALDESC:Events for St. Louis Economic Development Partnership
REFRESH-INTERVAL;VALUE=DURATION:PT1H
X-Robots-Tag:noindex
X-PUBLISHED-TTL:PT1H
BEGIN:VTIMEZONE
TZID:America/Chicago
BEGIN:DAYLIGHT
TZOFFSETFROM:-0600
TZOFFSETTO:-0500
TZNAME:CDT
DTSTART:20210314T080000
END:DAYLIGHT
BEGIN:STANDARD
TZOFFSETFROM:-0500
TZOFFSETTO:-0600
TZNAME:CST
DTSTART:20211107T070000
END:STANDARD
BEGIN:DAYLIGHT
TZOFFSETFROM:-0600
TZOFFSETTO:-0500
TZNAME:CDT
DTSTART:20220313T080000
END:DAYLIGHT
BEGIN:STANDARD
TZOFFSETFROM:-0500
TZOFFSETTO:-0600
TZNAME:CST
DTSTART:20221106T070000
END:STANDARD
BEGIN:DAYLIGHT
TZOFFSETFROM:-0600
TZOFFSETTO:-0500
TZNAME:CDT
DTSTART:20230312T080000
END:DAYLIGHT
BEGIN:STANDARD
TZOFFSETFROM:-0500
TZOFFSETTO:-0600
TZNAME:CST
DTSTART:20231105T070000
END:STANDARD
END:VTIMEZONE
BEGIN:VEVENT
DTSTART;TZID=America/Chicago:20220414T093000
DTEND;TZID=America/Chicago:20220414T103000
DTSTAMP:20260421T173415
CREATED:20220325T200831Z
LAST-MODIFIED:20240417T154613Z
UID:15534-1649928600-1649932200@stlpartnership.com
SUMMARY:Industrial Development Authority of St. Louis County Board of Directors Meeting
DESCRIPTION:Industrial Development Authority of St. Louis County Board of Director’s meeting\, April 14 at 9:30 am. \nSee agenda here ›
URL:https://stlpartnership.com/events/industrial-development-authority-of-st-louis-county-board-of-directors-meeting/
LOCATION:7733 Forsyth Boulevard\, Clayton\, MO\, USA\, 7733 Forsyth Boulevard\, Clayton\, MO\, USA
CATEGORIES:Board Meeting
END:VEVENT
BEGIN:VEVENT
DTSTART;TZID=America/Chicago:20220420T090000
DTEND;TZID=America/Chicago:20220420T100000
DTSTAMP:20260421T173415
CREATED:20240325T204017Z
LAST-MODIFIED:20240417T154513Z
UID:15586-1650445200-1650448800@stlpartnership.com
SUMMARY:LCRA Board Meeting
DESCRIPTION:LAND CLEARANCE FOR REDEVELOPMENT AUTHORITY OF THE COUNTY OF ST. LOUIS MEETING OF THE BOARD OF COMMISSIONERS \nSee agenda here ›
URL:https://stlpartnership.com/events/lcra-board-meeting-5/
LOCATION:7733 Forsyth Boulevard\, Clayton\, MO\, USA\, 7733 Forsyth Boulevard\, Clayton\, MO\, USA
CATEGORIES:Board Meeting
END:VEVENT
BEGIN:VEVENT
DTSTART;TZID=America/Chicago:20220421T160000
DTEND;TZID=America/Chicago:20220421T170000
DTSTAMP:20260421T173415
CREATED:20240329T175035Z
LAST-MODIFIED:20240417T153949Z
UID:15685-1650556800-1650560400@stlpartnership.com
SUMMARY:St. Louis County Port Authority Board Meeting
DESCRIPTION:St. Louis County Port Authority Board Meeting April 21\, 2022 at 4:00 PM. \nSee agenda here.
URL:https://stlpartnership.com/events/st-louis-county-port-authority-board-meeting-7/
LOCATION:7733 Forsyth Boulevard\, Clayton\, MO\, USA\, 7733 Forsyth Boulevard\, Clayton\, MO\, USA
CATEGORIES:Board Meeting
END:VEVENT
BEGIN:VEVENT
DTSTART;TZID=America/Chicago:20220427T153000
DTEND;TZID=America/Chicago:20220427T163000
DTSTAMP:20260421T173415
CREATED:20240401T174124Z
LAST-MODIFIED:20240417T154255Z
UID:15731-1651073400-1651077000@stlpartnership.com
SUMMARY:St. Louis Economic Development Partnership Board Meeting
DESCRIPTION:St. Louis Economic Development Partnership Board meeting on April 27 at 3:30 PM. \nSee agenda here.
URL:https://stlpartnership.com/events/st-louis-economic-development-partnership-board-meeting-2/
LOCATION:7733 Forsyth Boulevard\, Clayton\, MO\, USA\, 7733 Forsyth Boulevard\, Clayton\, MO\, USA
CATEGORIES:Board Meeting
END:VEVENT
END:VCALENDAR