BEGIN:VCALENDAR
VERSION:2.0
PRODID:-//St. Louis Economic Development Partnership - ECPv6.15.20//NONSGML v1.0//EN
CALSCALE:GREGORIAN
METHOD:PUBLISH
X-ORIGINAL-URL:https://stlpartnership.com
X-WR-CALDESC:Events for St. Louis Economic Development Partnership
REFRESH-INTERVAL;VALUE=DURATION:PT1H
X-Robots-Tag:noindex
X-PUBLISHED-TTL:PT1H
BEGIN:VTIMEZONE
TZID:America/Chicago
BEGIN:DAYLIGHT
TZOFFSETFROM:-0600
TZOFFSETTO:-0500
TZNAME:CDT
DTSTART:20210314T080000
END:DAYLIGHT
BEGIN:STANDARD
TZOFFSETFROM:-0500
TZOFFSETTO:-0600
TZNAME:CST
DTSTART:20211107T070000
END:STANDARD
BEGIN:DAYLIGHT
TZOFFSETFROM:-0600
TZOFFSETTO:-0500
TZNAME:CDT
DTSTART:20220313T080000
END:DAYLIGHT
BEGIN:STANDARD
TZOFFSETFROM:-0500
TZOFFSETTO:-0600
TZNAME:CST
DTSTART:20221106T070000
END:STANDARD
BEGIN:DAYLIGHT
TZOFFSETFROM:-0600
TZOFFSETTO:-0500
TZNAME:CDT
DTSTART:20230312T080000
END:DAYLIGHT
BEGIN:STANDARD
TZOFFSETFROM:-0500
TZOFFSETTO:-0600
TZNAME:CST
DTSTART:20231105T070000
END:STANDARD
END:VTIMEZONE
BEGIN:VEVENT
DTSTART;TZID=America/Chicago:20220315T103000
DTEND;TZID=America/Chicago:20220315T120000
DTSTAMP:20260421T192034
CREATED:20240325T205346Z
LAST-MODIFIED:20240417T154121Z
UID:15612-1647340200-1647345600@stlpartnership.com
SUMMARY:LJDC Quarterly Board of Directors Meeting
DESCRIPTION:See agenda here › \n 
URL:https://stlpartnership.com/events/ljdc-quarterly-board-of-directors-meeting/
LOCATION:7733 Forsyth Boulevard\, Clayton\, MO\, USA\, 7733 Forsyth Boulevard\, Clayton\, MO\, USA
CATEGORIES:Board Meeting
END:VEVENT
BEGIN:VEVENT
DTSTART;TZID=America/Chicago:20220316T090000
DTEND;TZID=America/Chicago:20220316T100000
DTSTAMP:20260421T192034
CREATED:20240325T203851Z
LAST-MODIFIED:20240417T154516Z
UID:15583-1647421200-1647424800@stlpartnership.com
SUMMARY:LCRA Board Meeting
DESCRIPTION:See agenda here ›
URL:https://stlpartnership.com/events/lcra-board-meeting-4/
LOCATION:7733 Forsyth Boulevard\, Clayton\, MO\, USA\, 7733 Forsyth Boulevard\, Clayton\, MO\, USA
CATEGORIES:Board Meeting
END:VEVENT
BEGIN:VEVENT
DTSTART;TZID=America/Chicago:20220324T160000
DTEND;TZID=America/Chicago:20220324T170000
DTSTAMP:20260421T192034
CREATED:20240329T174954Z
LAST-MODIFIED:20240417T153944Z
UID:15682-1648137600-1648141200@stlpartnership.com
SUMMARY:St. Louis County Port Authority Board Meeting
DESCRIPTION:St. Louis County Port Authority Board Meeting has been moved to March 24\, 2022 at 4:00 PM. \nSee agenda here.
URL:https://stlpartnership.com/events/st-louis-county-port-authority-board-meeting-6/
LOCATION:7733 Forsyth Boulevard\, Clayton\, MO\, USA\, 7733 Forsyth Boulevard\, Clayton\, MO\, USA
CATEGORIES:Board Meeting
END:VEVENT
END:VCALENDAR