BEGIN:VCALENDAR
VERSION:2.0
PRODID:-//St. Louis Economic Development Partnership - ECPv6.15.20//NONSGML v1.0//EN
CALSCALE:GREGORIAN
METHOD:PUBLISH
X-WR-CALNAME:St. Louis Economic Development Partnership
X-ORIGINAL-URL:https://stlpartnership.com
X-WR-CALDESC:Events for St. Louis Economic Development Partnership
REFRESH-INTERVAL;VALUE=DURATION:PT1H
X-Robots-Tag:noindex
X-PUBLISHED-TTL:PT1H
BEGIN:VTIMEZONE
TZID:America/Chicago
BEGIN:DAYLIGHT
TZOFFSETFROM:-0600
TZOFFSETTO:-0500
TZNAME:CDT
DTSTART:20210314T080000
END:DAYLIGHT
BEGIN:STANDARD
TZOFFSETFROM:-0500
TZOFFSETTO:-0600
TZNAME:CST
DTSTART:20211107T070000
END:STANDARD
BEGIN:DAYLIGHT
TZOFFSETFROM:-0600
TZOFFSETTO:-0500
TZNAME:CDT
DTSTART:20220313T080000
END:DAYLIGHT
BEGIN:STANDARD
TZOFFSETFROM:-0500
TZOFFSETTO:-0600
TZNAME:CST
DTSTART:20221106T070000
END:STANDARD
BEGIN:DAYLIGHT
TZOFFSETFROM:-0600
TZOFFSETTO:-0500
TZNAME:CDT
DTSTART:20230312T080000
END:DAYLIGHT
BEGIN:STANDARD
TZOFFSETFROM:-0500
TZOFFSETTO:-0600
TZNAME:CST
DTSTART:20231105T070000
END:STANDARD
END:VTIMEZONE
BEGIN:VEVENT
DTSTART;TZID=America/Chicago:20220201T103000
DTEND;TZID=America/Chicago:20220201T113000
DTSTAMP:20260421T210410
CREATED:20240401T202314Z
LAST-MODIFIED:20240417T154422Z
UID:15809-1643711400-1643715000@stlpartnership.com
SUMMARY:STLVenture Works Special Meeting of the Board
DESCRIPTION:STLVenture Works Special Meeting of the Board via Zoom. Tuesday\, February 1\, 2022 at 10:30 AM. \nRead Agenda here.
URL:https://stlpartnership.com/events/stlventure-works-special-meeting-of-the-board/
LOCATION:7733 Forsyth Boulevard\, Clayton\, MO\, USA\, 7733 Forsyth Boulevard\, Clayton\, MO\, USA
CATEGORIES:Board Meeting
END:VEVENT
BEGIN:VEVENT
DTSTART;TZID=America/Chicago:20220216T090000
DTEND;TZID=America/Chicago:20220216T100000
DTSTAMP:20260421T210410
CREATED:20240325T203805Z
LAST-MODIFIED:20240417T154519Z
UID:15580-1645002000-1645005600@stlpartnership.com
SUMMARY:LCRA Board Meeting
DESCRIPTION:SLEDP Board Room 2203 \nSee agenda here ›
URL:https://stlpartnership.com/events/lcra-board-meeting-3/
LOCATION:7733 Forsyth Boulevard\, Clayton\, MO\, USA\, 7733 Forsyth Boulevard\, Clayton\, MO\, USA
CATEGORIES:Board Meeting
END:VEVENT
BEGIN:VEVENT
DTSTART;TZID=America/Chicago:20220217T160000
DTEND;TZID=America/Chicago:20220217T170000
DTSTAMP:20260421T210410
CREATED:20240329T174907Z
LAST-MODIFIED:20240417T153941Z
UID:15679-1645113600-1645117200@stlpartnership.com
SUMMARY:St. Louis County Port Authority Board Meeting
DESCRIPTION:St. Louis County Port Authority Board Meeting. February 17\, 2022 at 4 PM. Via Zoom. \nSee agenda here.
URL:https://stlpartnership.com/events/st-louis-county-port-authority-board-meeting-5/
LOCATION:7733 Forsyth Boulevard\, Clayton\, MO\, USA\, 7733 Forsyth Boulevard\, Clayton\, MO\, USA
CATEGORIES:Board Meeting
END:VEVENT
BEGIN:VEVENT
DTSTART;TZID=America/Chicago:20220223T153000
DTEND;TZID=America/Chicago:20220223T163000
DTSTAMP:20260421T210410
CREATED:20240401T173942Z
LAST-MODIFIED:20240417T154253Z
UID:15727-1645630200-1645633800@stlpartnership.com
SUMMARY:St. Louis Economic Development Partnership Board Meeting
DESCRIPTION:St. Louis Economic Development Partnership Board meeting on February 23 at 3:30 PM. \nSee agenda here.
URL:https://stlpartnership.com/events/st-louis-economic-development-partnership-board-meeting/
LOCATION:7733 Forsyth Boulevard\, Clayton\, MO\, USA\, 7733 Forsyth Boulevard\, Clayton\, MO\, USA
CATEGORIES:Board Meeting
END:VEVENT
BEGIN:VEVENT
DTSTART;TZID=America/Chicago:20220224T160000
DTEND;TZID=America/Chicago:20220224T170000
DTSTAMP:20260421T210410
CREATED:20240401T204032Z
LAST-MODIFIED:20240417T154819Z
UID:15852-1645718400-1645722000@stlpartnership.com
SUMMARY:World Trade Center - St. Louis Board Meeting
DESCRIPTION:WORLD TRADE CENTER – ST. LOUIS BOARD MEETING February 24 at 4 PM. \nSee agenda here.
URL:https://stlpartnership.com/events/world-trade-center-st-louis-board-meeting-6/
LOCATION:7733 Forsyth Boulevard\, Clayton\, MO\, USA\, 7733 Forsyth Boulevard\, Clayton\, MO\, USA
CATEGORIES:Board Meeting
END:VEVENT
END:VCALENDAR