BEGIN:VCALENDAR
VERSION:2.0
PRODID:-//St. Louis Economic Development Partnership - ECPv6.15.20//NONSGML v1.0//EN
CALSCALE:GREGORIAN
METHOD:PUBLISH
X-WR-CALNAME:St. Louis Economic Development Partnership
X-ORIGINAL-URL:https://stlpartnership.com
X-WR-CALDESC:Events for St. Louis Economic Development Partnership
REFRESH-INTERVAL;VALUE=DURATION:PT1H
X-Robots-Tag:noindex
X-PUBLISHED-TTL:PT1H
BEGIN:VTIMEZONE
TZID:America/Chicago
BEGIN:DAYLIGHT
TZOFFSETFROM:-0600
TZOFFSETTO:-0500
TZNAME:CDT
DTSTART:20210314T080000
END:DAYLIGHT
BEGIN:STANDARD
TZOFFSETFROM:-0500
TZOFFSETTO:-0600
TZNAME:CST
DTSTART:20211107T070000
END:STANDARD
BEGIN:DAYLIGHT
TZOFFSETFROM:-0600
TZOFFSETTO:-0500
TZNAME:CDT
DTSTART:20220313T080000
END:DAYLIGHT
BEGIN:STANDARD
TZOFFSETFROM:-0500
TZOFFSETTO:-0600
TZNAME:CST
DTSTART:20221106T070000
END:STANDARD
BEGIN:DAYLIGHT
TZOFFSETFROM:-0600
TZOFFSETTO:-0500
TZNAME:CDT
DTSTART:20230312T080000
END:DAYLIGHT
BEGIN:STANDARD
TZOFFSETFROM:-0500
TZOFFSETTO:-0600
TZNAME:CST
DTSTART:20231105T070000
END:STANDARD
END:VTIMEZONE
BEGIN:VEVENT
DTSTART;TZID=America/Chicago:20220119T090000
DTEND;TZID=America/Chicago:20220119T100000
DTSTAMP:20260421T224030
CREATED:20240325T203708Z
LAST-MODIFIED:20240417T154521Z
UID:15577-1642582800-1642586400@stlpartnership.com
SUMMARY:LCRA Board Meeting
DESCRIPTION:SLEDP Board Room 2203 \nSee agenda here ›
URL:https://stlpartnership.com/events/lcra-board-meeting-2/
LOCATION:7733 Forsyth Boulevard\, Clayton\, MO\, USA\, 7733 Forsyth Boulevard\, Clayton\, MO\, USA
CATEGORIES:Board Meeting
END:VEVENT
BEGIN:VEVENT
DTSTART;TZID=America/Chicago:20220120T160000
DTEND;TZID=America/Chicago:20220120T170000
DTSTAMP:20260421T224030
CREATED:20240328T205149Z
LAST-MODIFIED:20240417T153937Z
UID:15640-1642694400-1642698000@stlpartnership.com
SUMMARY:Port Authority Meeting
DESCRIPTION:MEETING OF THE ST. LOUIS COUNTY PORT AUTHORITY\nThursday\, January 20\, 2022\n4:00 PM \nMEETING WILL ONLY BE ACCESSIBLE TO THE PUBLIC VIA VIDEOCONFERENCE/TELECONFERENCE\nTo Join by Phone: (301) 715-8592;\nMeeting ID: 865 5191 8885 Passcode: 835931 \nView meeting agenda here.
URL:https://stlpartnership.com/events/port-authority-meeting/
LOCATION:7733 Forsyth Boulevard\, Clayton\, MO\, USA\, 7733 Forsyth Boulevard\, Clayton\, MO\, USA
CATEGORIES:Board Meeting
END:VEVENT
END:VCALENDAR